BEGIN:VCALENDAR
METHOD:PUBLISH
VERSION:2.0
PRODID:-//Assemblee-Nationale//iCal 3.0//FR
TZ:+00
BEGIN:VEVENT
UID:OMC_RUANR5L14S2016IDF0079500
DTSTART:20160428T060000Z
DTSTAMP:20260419T194752Z
SUMMARY:Réunion - M. Dominique POTIER
LOCATION:Salon Mansart, 101, rue de l&#039;Université
DESCRIPTION:
DTEND:20160428T100000Z
TRANSP:TRANSPARENT
END:VEVENT
BEGIN:VEVENT
UID:OMC_RUANR5L14S2016IDC425355
DTSTART:20160428T070000Z
DTSTAMP:20260419T194752Z
SUMMARY:Réunion de la commission d&#039;enquête sur les conditions d&#039;abattage des animaux de boucherie dans les abattoirs français
LOCATION:salle 6237 (Développement durable)
DESCRIPTION:Audition, ouverte à la presse, de M. Jack Pagès, directeur de l’abattoir d’Alès, et de M. Max Roustan, maire d’Alès.
DTEND:20160428T081500Z
TRANSP:TRANSPARENT
END:VEVENT
BEGIN:VEVENT
UID:OMC_RUANR5L14S2016IDC425378
DTSTART:20160428T070000Z
DTSTAMP:20260419T194752Z
SUMMARY:Réunion de la mission d&#039;information relative au paritarisme
LOCATION:salle 6238 (Affaires culturelles)
DESCRIPTION:Auditions ouvertes à la presse :\nà 9 heures :  de M. Philippe Louis, président de la Confédération française des travailleurs chrétiens (CFTC) ;\nà 10 heures :  de Mme Marie-Françoise Leflon, secrétaire générale de la Confédération française de l&#039;encadrement-Confédération générale des cadres (CFE-CGC)\nà 11 heures :  de M. Jean-Michel Pottier, vice-président en charge des affaires sociales de la Confédération générale des petites et moyennes entreprises (CGPME), Mme Sandrine Bourgogne, secrétaire générale adjointe et M. Georges Tissié, directeur des affaires sociales.\n
DTEND:20160428T103000Z
TRANSP:TRANSPARENT
END:VEVENT
BEGIN:VEVENT
UID:OMC_RUANR5L14S2016IDF0079244
DTSTART:20160428T070000Z
DTSTAMP:20260419T194752Z
SUMMARY:Réunion - Mme Monique IBORRA
LOCATION:6ème Bureau, Palais Bourbon
DESCRIPTION:
DTEND:20160428T110000Z
TRANSP:TRANSPARENT
END:VEVENT
BEGIN:VEVENT
UID:OMC_RUANR5L14S2016IDF0079396
DTSTART:20160428T070000Z
DTSTAMP:20260419T194752Z
SUMMARY:Réunion - M. Pierre-Yves LE BORGN&#039;
LOCATION:Salle N° 3, 3, rue Aristide Briand
DESCRIPTION:
DTEND:20160428T110000Z
TRANSP:TRANSPARENT
END:VEVENT
BEGIN:VEVENT
UID:OMC_RUANR5L14S2016IDF0080092
DTSTART:20160428T070000Z
DTSTAMP:20260419T194752Z
SUMMARY:Réunion - M. Régis JUANICO
LOCATION:5ème Bureau, Palais Bourbon
DESCRIPTION:
DTEND:20160428T090000Z
TRANSP:TRANSPARENT
END:VEVENT
BEGIN:VEVENT
UID:OMC_RUANR5L14S2016IDC425300
DTSTART:20160428T071500Z
DTSTAMP:20260419T194752Z
SUMMARY:Réunion de la commission des affaires économiques
LOCATION:salle 6241 (Affaires économiques)
DESCRIPTION:éventuellement, abus de dépendance économique (n° 3571) (amendements, art. 88).
DTEND:20160428T073000Z
TRANSP:TRANSPARENT
END:VEVENT
BEGIN:VEVENT
UID:OMC_RUANR5L14S2016IDS19946
DTSTART:20160428T073000Z
DTSTAMP:20260419T194752Z
SUMMARY:Première séance publique (176e)
LOCATION:Assemblée nationale
DESCRIPTION:Discussion de la proposition de résolution invitant le Gouvernement à ne pas renouveler les mesures restrictives et les sanctions économiques imposées par l&#039;Union européenne à la Fédération de Russie (art. 34-1 de la Constitution)\nDiscussion de la proposition de loi visant à mieux définir l&#039;abus de dépendance économique\nDiscussion, en deuxième lecture, de la proposition de loi renforçant le dialogue avec les supporters et la lutte contre le hooliganisme\nDiscussion de la proposition de loi visant à étendre aux collectivités territoriales le mécanisme de déclassement anticipé, prévu à l&#039;article L. 2141-2 du code général de la propriété des personnes publiques\nDiscussion de la proposition de loi organique, adoptée par le Sénat, relative aux autorités administratives indépendantes et autorités publiques indépendantes \nDiscussion de la proposition de loi, adoptée par le Sénat, portant statut général des autorités administratives indépendantes et des autorités publiques indépendantes\n
DTEND:20160428T112000Z
TRANSP:TRANSPARENT
END:VEVENT
BEGIN:VEVENT
UID:OMC_RUANR5L14S2016IDC425243
DTSTART:20160428T073000Z
DTSTAMP:20260419T194752Z
SUMMARY:Réunion de l&#039;office parlementaire d&#039;évaluation des choix scientifiques et technologiques
LOCATION:salle Lamartine (Assemblée nationale)
DESCRIPTION:Audition publique, ouverte à la presse, sur « L’apport des avancées technologiques aux sciences de la vie ».
DTEND:20160428T111500Z
TRANSP:TRANSPARENT
END:VEVENT
BEGIN:VEVENT
UID:OMC_RUANR5L14S2016IDF0078774
DTSTART:20160428T073000Z
DTSTAMP:20260419T194752Z
SUMMARY:Réunion - M. Jean-Marie TÉTART
LOCATION:Salon Gabriel, 101, rue de l&#039;Université
DESCRIPTION:
DTEND:20160428T103000Z
TRANSP:TRANSPARENT
END:VEVENT
BEGIN:VEVENT
UID:OMC_RUANR5L14S2016IDF0079960
DTSTART:20160428T073000Z
DTSTAMP:20260419T194752Z
SUMMARY:Réunion - M. Yannick MOREAU
LOCATION:Salle 7326, 101, rue de l&#039;Université
DESCRIPTION:
DTEND:20160428T163000Z
TRANSP:TRANSPARENT
END:VEVENT
BEGIN:VEVENT
UID:OMC_RUANR5L14S2016IDF0080043
DTSTART:20160428T073000Z
DTSTAMP:20260419T194752Z
SUMMARY:Réunion - Mme Sandrine DOUCET
LOCATION:Salle 6809, Palais Bourbon
DESCRIPTION:
DTEND:20160428T110000Z
TRANSP:TRANSPARENT
END:VEVENT
BEGIN:VEVENT
UID:OMC_RUANR5L14S2016IDF0080217
DTSTART:20160428T073000Z
DTSTAMP:20260419T194752Z
SUMMARY:Réunion - M. Jean-Luc WARSMANN
LOCATION:Salle 6550, Palais Bourbon
DESCRIPTION:
DTEND:20160428T083000Z
TRANSP:TRANSPARENT
END:VEVENT
BEGIN:VEVENT
UID:OMC_RUANR5L14S2016IDF0067339
DTSTART:20160428T080000Z
DTSTAMP:20260419T194752Z
SUMMARY:Réunion - M. Christophe SIRUGUE
LOCATION:5ème Bureau, Palais Bourbon
DESCRIPTION:
DTEND:20160428T090000Z
TRANSP:TRANSPARENT
END:VEVENT
BEGIN:VEVENT
UID:OMC_RUANR5L14S2016IDF0078933
DTSTART:20160428T080000Z
DTSTAMP:20260419T194752Z
SUMMARY:Réunion - M. Gérard BAPT
LOCATION:Salon Visconti, 101, rue de l&#039;Université
DESCRIPTION:
DTEND:20160428T110000Z
TRANSP:TRANSPARENT
END:VEVENT
BEGIN:VEVENT
UID:OMC_RUANR5L14S2016IDF0079545
DTSTART:20160428T080000Z
DTSTAMP:20260419T194752Z
SUMMARY:Réunion - M. Patrice PRAT
LOCATION:Salle 6822, Palais Bourbon
DESCRIPTION:
DTEND:20160428T090000Z
TRANSP:TRANSPARENT
END:VEVENT
BEGIN:VEVENT
UID:OMC_RUANR5L14S2016IDC425356
DTSTART:20160428T081500Z
DTSTAMP:20260419T194752Z
SUMMARY:Réunion de la commission d&#039;enquête sur les conditions d&#039;abattage des animaux de boucherie dans les abattoirs français
LOCATION:salle 6237 (Développement durable)
DESCRIPTION:Audition, ouverte à la presse, de M. Laurent Kauffmann, directeur de l’abattoir du Vigan, et de M. Roland Canayer, président de la Communauté des communes du Pays Viganais.
DTEND:20160428T093000Z
TRANSP:TRANSPARENT
END:VEVENT
BEGIN:VEVENT
UID:OMC_RUSNR5L14S2016IDS19929
DTSTART:20160428T083000Z
DTSTAMP:20260419T194752Z
SUMMARY:Séance publique (89e)
LOCATION:Sénat
DESCRIPTION:Discussion en deuxième lecture du projet de loi, modifié par l&#039;Assemblée nationale après engagement de la procédure accélérée, ratifiant l&#039;ordonnance n° 2015-1127 du 10 septembre 2015 portant réduction du nombre minimal d&#039;actionnaires dans les sociétés anonymes non cotées (n° 405, 2015-2016)\nSuite de la discussion du projet de loi, adopté par l&#039;Assemblée nationale après engagement de la procédure accélérée, pour une République numérique (n° 325, 2015-2016)\n
DTEND:20160428T223000Z
TRANSP:TRANSPARENT
END:VEVENT
BEGIN:VEVENT
UID:OMC_RUANR5L14S2016IDC425331
DTSTART:20160428T083000Z
DTSTAMP:20260419T194752Z
SUMMARY:Réunion de la commission des lois
LOCATION:salle 6242 (Lois)
DESCRIPTION:Lutte contre le hooliganisme (deuxième lecture) (n° 3666) (amendements art. 88) ;\nAutorités administratives indépendantes et autorités publiques indépendantes (n° 3477 et n° 3476) (amendements art. 88) ;\nDéclassement anticipé (n° 2709) (première lecture) (amendements art. 88).\n
DTEND:20160428T084500Z
TRANSP:TRANSPARENT
END:VEVENT
BEGIN:VEVENT
UID:OMC_RUANR5L14S2016IDC425373
DTSTART:20160428T083000Z
DTSTAMP:20260419T194752Z
SUMMARY:Réunion de la mission d&#039;information sur les moyens de Daech
LOCATION:salle 4223 (33 rue Saint-Dominique)
DESCRIPTION:De 10 h 30 à 12 heures : audition de M. Mathieu Guidère, professeur d’islamologie et géopolitique arabe à l’université de Toulouse 2.
DTEND:20160428T100000Z
TRANSP:TRANSPARENT
END:VEVENT
BEGIN:VEVENT
UID:OMC_RUANR5L14S2016IDF0075476
DTSTART:20160428T083000Z
DTSTAMP:20260419T194752Z
SUMMARY:Réunion - M. Bruno LE ROUX
LOCATION:2ème Bureau, Palais Bourbon
DESCRIPTION:
DTEND:20160428T103000Z
TRANSP:TRANSPARENT
END:VEVENT
BEGIN:VEVENT
UID:OMC_RUANR5L14S2016IDF0077557
DTSTART:20160428T083000Z
DTSTAMP:20260419T194752Z
SUMMARY:Réunion - M. Philippe DURON
LOCATION:4ème Bureau, Palais Bourbon
DESCRIPTION:
DTEND:20160428T113000Z
TRANSP:TRANSPARENT
END:VEVENT
BEGIN:VEVENT
UID:OMC_RUANR5L14S2016IDF0079127
DTSTART:20160428T083000Z
DTSTAMP:20260419T194752Z
SUMMARY:Réunion - M. Jean-Christophe FROMANTIN
LOCATION:8ème Bureau, Palais Bourbon
DESCRIPTION:
DTEND:20160428T100000Z
TRANSP:TRANSPARENT
END:VEVENT
BEGIN:VEVENT
UID:OMC_RUANR5L14S2016IDF0080155
DTSTART:20160428T090000Z
DTSTAMP:20260419T194752Z
SUMMARY:Réunion - M. Alain MARSAUD
LOCATION:Salle N° 2, 3, rue Aristide Briand
DESCRIPTION:
DTEND:20160428T100000Z
TRANSP:TRANSPARENT
END:VEVENT
BEGIN:VEVENT
UID:OMC_RUANR5L14S2016IDC425357
DTSTART:20160428T093000Z
DTSTAMP:20260419T194752Z
SUMMARY:Réunion de la commission d&#039;enquête sur les conditions d&#039;abattage des animaux de boucherie dans les abattoirs français
LOCATION:salle 6237 (Développement durable)
DESCRIPTION:Audition, ouverte à la presse, de M. Gérard Clemente, directeur de l’abattoir du Pays de Soule et de M. Michel Etchebest, maire de Mauléon-Licharre.
DTEND:20160428T104500Z
TRANSP:TRANSPARENT
END:VEVENT
BEGIN:VEVENT
UID:OMC_RUANR5L14S2016IDC425374
DTSTAMP:20260419T194752Z
DTSTART:20160428T100000Z
SUMMARY:Réunion de la mission d&#039;information sur les moyens de Daech
LOCATION:salle 4223 (33 rue Saint-Dominique)
DESCRIPTION:De 12 heures à 13 heures : entretien avec Son Exc. M. Alexandre Orlov, ambassadeur extraordinaire et plénipotentiaire de Russie en France.
DTEND:20160428T110000Z
TRANSP:TRANSPARENT
END:VEVENT
BEGIN:VEVENT
UID:OMC_RUANR5L14S2016IDF0069533
DTSTAMP:20260419T194752Z
DTSTART:20160428T103000Z
SUMMARY:Réunion - M. Pouria AMIRSHAHI
LOCATION:Salle N° 23, 3, rue Aristide Briand
DESCRIPTION:
DTEND:20160428T123000Z
TRANSP:TRANSPARENT
END:VEVENT
BEGIN:VEVENT
UID:OMC_RUANR5L14S2016IDF0071138
DTSTAMP:20260419T194752Z
DTSTART:20160428T120000Z
SUMMARY:Réunion - M. Christophe SIRUGUE
LOCATION:5ème Bureau, Palais Bourbon
DESCRIPTION:
DTEND:20160428T130000Z
TRANSP:TRANSPARENT
END:VEVENT
BEGIN:VEVENT
UID:OMC_RUANR5L14S2016IDF0078775
DTSTAMP:20260419T194752Z
DTSTART:20160428T120000Z
SUMMARY:Réunion - M. Jean-Marie TÉTART
LOCATION:Salon Gabriel, 101, rue de l&#039;Université
DESCRIPTION:
DTEND:20160428T150000Z
TRANSP:TRANSPARENT
END:VEVENT
BEGIN:VEVENT
UID:OMC_RUANR5L14S2016IDF0079050
DTSTAMP:20260419T194752Z
DTSTART:20160428T120000Z
SUMMARY:Réunion - Coopération et aide au développement
LOCATION:2ème Bureau, Palais Bourbon
DESCRIPTION:
DTEND:20160428T130000Z
TRANSP:TRANSPARENT
END:VEVENT
BEGIN:VEVENT
UID:OMC_RUANR5L14S2016IDF0079205
DTSTAMP:20260419T194752Z
DTSTART:20160428T120000Z
SUMMARY:Réunion - M. Yves FROMION
LOCATION:Salle 7207, 101, rue de l&#039;Université
DESCRIPTION:
DTEND:20160428T133000Z
TRANSP:TRANSPARENT
END:VEVENT
BEGIN:VEVENT
UID:OMC_RUANR5L14S2016IDF0079115
DTSTAMP:20260419T194752Z
DTSTART:20160428T123000Z
SUMMARY:Réunion - M. Jacques MYARD
LOCATION:Salle N° 1, 3, rue Aristide Briand
DESCRIPTION:
DTEND:20160428T163000Z
TRANSP:TRANSPARENT
END:VEVENT
BEGIN:VEVENT
UID:OMC_RUANR5L14S2016IDS19947
DTSTAMP:20260419T194752Z
DTSTART:20160428T130000Z
SUMMARY:Deuxième séance publique (177e)
LOCATION:Assemblée nationale
DESCRIPTION:Suite de la discussion de la proposition de résolution invitant le Gouvernement à ne pas renouveler les mesures restrictives et les sanctions économiques imposées par l&#039;Union européenne à la Fédération de Russie (art. 34-1 de la Constitution)\nSuite de la discussion de la proposition de loi visant à mieux définir l&#039;abus de dépendance économique\nSuite de la discussion, en deuxième lecture, de la proposition de loi renforçant le dialogue avec les supporters et la lutte contre le hooliganisme\nSuite de la discussion de la proposition de loi organique, adoptée par le Sénat, relative aux autorités administratives indépendantes et autorités publiques indépendantes \nSuite de la discussion de la proposition de loi, adoptée par le Sénat, portant statut général des autorités administratives indépendantes et des autorités publiques indépendantes\nSuite de la discussion de la proposition de loi visant à étendre aux collectivités territoriales le mécanisme de déclassement anticipé, prévu à l&#039;article L. 2141-2 du code général de la propriété des personnes publiques\n
DTEND:20160428T194000Z
TRANSP:TRANSPARENT
END:VEVENT
BEGIN:VEVENT
UID:OMC_RUANR5L14S2016IDF0080198
DTSTAMP:20260419T194752Z
DTSTART:20160428T130000Z
SUMMARY:Réunion - M. Jacques MYARD
LOCATION:Salle N° 3, 3, rue Aristide Briand
DESCRIPTION:
DTEND:20160428T140000Z
TRANSP:TRANSPARENT
END:VEVENT
BEGIN:VEVENT
UID:OMC_RUANR5L14S2016IDF0075853
DTSTAMP:20260419T194752Z
DTSTART:20160428T163000Z
SUMMARY:Réunion - Mme Isabelle LE CALLENNEC
LOCATION:Salon Mars III, 101, rue de l&#039;Université
DESCRIPTION:
DTEND:20160428T193000Z
TRANSP:TRANSPARENT
END:VEVENT
END:VCALENDAR
