BEGIN:VCALENDAR
METHOD:PUBLISH
VERSION:2.0
PRODID:-//Assemblee-Nationale//iCal 3.0//FR
TZ:+00
BEGIN:VEVENT
UID:OMC_RUANR5L14S2016IDC425243
DTSTAMP:20260419T232355Z
DTSTART:20160428T073000Z
SUMMARY:Réunion de l&#039;office parlementaire d&#039;évaluation des choix scientifiques et technologiques
LOCATION:salle Lamartine (Assemblée nationale)
DESCRIPTION:Audition publique, ouverte à la presse, sur « L’apport des avancées technologiques aux sciences de la vie ».
DTEND:20160428T111500Z
TRANSP:TRANSPARENT
END:VEVENT
END:VCALENDAR
