BEGIN:VCALENDAR
METHOD:PUBLISH
VERSION:2.0
PRODID:-//Assemblee-Nationale//iCal 3.0//FR
TZ:+00
BEGIN:VEVENT
UID:OMC_RUANR5L14S2016IDC425300
DTSTAMP:20260419T232156Z
DTSTART:20160428T071500Z
SUMMARY:Réunion de la commission des affaires économiques
LOCATION:salle 6241 (Affaires économiques)
DESCRIPTION:éventuellement, abus de dépendance économique (n° 3571) (amendements, art. 88).
DTEND:20160428T073000Z
TRANSP:TRANSPARENT
END:VEVENT
END:VCALENDAR
