BEGIN:VCALENDAR
METHOD:PUBLISH
VERSION:2.0
PRODID:-//Assemblee-Nationale//iCal 3.0//FR
TZ:+00
BEGIN:VEVENT
UID:OMC_RUANR5L14S2016IDC425331
DTSTAMP:20260419T171403Z
DTSTART:20160428T083000Z
SUMMARY:Réunion de la commission des lois
LOCATION:salle 6242 (Lois)
DESCRIPTION:Lutte contre le hooliganisme (deuxième lecture) (n° 3666) (amendements art. 88) ;\nAutorités administratives indépendantes et autorités publiques indépendantes (n° 3477 et n° 3476) (amendements art. 88) ;\nDéclassement anticipé (n° 2709) (première lecture) (amendements art. 88).\n
DTEND:20160428T084500Z
TRANSP:TRANSPARENT
END:VEVENT
END:VCALENDAR
