BEGIN:VCALENDAR
METHOD:PUBLISH
VERSION:2.0
PRODID:-//Assemblee-Nationale//iCal 3.0//FR
TZ:+00
BEGIN:VEVENT
UID:OMC_RUANR5L14S2016IDC425356
DTSTAMP:20260419T175509Z
DTSTART:20160428T081500Z
SUMMARY:Réunion de la commission d&#039;enquête sur les conditions d&#039;abattage des animaux de boucherie dans les abattoirs français
LOCATION:salle 6237 (Développement durable)
DESCRIPTION:Audition, ouverte à la presse, de M. Laurent Kauffmann, directeur de l’abattoir du Vigan, et de M. Roland Canayer, président de la Communauté des communes du Pays Viganais.
DTEND:20160428T093000Z
TRANSP:TRANSPARENT
END:VEVENT
END:VCALENDAR
