BEGIN:VCALENDAR
METHOD:PUBLISH
VERSION:2.0
PRODID:-//Assemblee-Nationale//iCal 3.0//FR
TZ:+00
BEGIN:VEVENT
UID:OMC_RUANR5L14S2016IDC425357
DTSTAMP:20260419T205335Z
DTSTART:20160428T093000Z
SUMMARY:Réunion de la commission d&#039;enquête sur les conditions d&#039;abattage des animaux de boucherie dans les abattoirs français
LOCATION:salle 6237 (Développement durable)
DESCRIPTION:Audition, ouverte à la presse, de M. Gérard Clemente, directeur de l’abattoir du Pays de Soule et de M. Michel Etchebest, maire de Mauléon-Licharre.
DTEND:20160428T104500Z
TRANSP:TRANSPARENT
END:VEVENT
END:VCALENDAR
