BEGIN:VCALENDAR
METHOD:PUBLISH
VERSION:2.0
PRODID:-//Assemblee-Nationale//iCal 3.0//FR
TZ:+00
BEGIN:VEVENT
UID:OMC_RUANR5L14S2016IDF0079545
DTSTAMP:20260421T095732Z
DTSTART:20160428T080000Z
SUMMARY:Réunion - M. Patrice PRAT
LOCATION:Salle 6822, Palais Bourbon
DESCRIPTION:
DTEND:20160428T090000Z
TRANSP:TRANSPARENT
END:VEVENT
END:VCALENDAR
