BEGIN:VCALENDAR
METHOD:PUBLISH
VERSION:2.0
PRODID:-//Assemblee-Nationale//iCal 3.0//FR
TZ:+00
BEGIN:VEVENT
UID:OMC_RUANR5L14S2016IDF0080155
DTSTAMP:20260420T193221Z
DTSTART:20160428T090000Z
SUMMARY:Réunion - M. Alain MARSAUD
LOCATION:Salle N° 2, 3, rue Aristide Briand
DESCRIPTION:
DTEND:20160428T100000Z
TRANSP:TRANSPARENT
END:VEVENT
END:VCALENDAR
