BEGIN:VCALENDAR
METHOD:PUBLISH
VERSION:2.0
PRODID:-//Assemblee-Nationale//iCal 3.0//FR
TZ:+00
BEGIN:VEVENT
UID:OMC_RUANR5L14S2016IDS19946
DTSTAMP:20260419T190610Z
DTSTART:20160428T073000Z
SUMMARY:Première séance publique (176e)
LOCATION:Assemblée nationale
DESCRIPTION:Discussion de la proposition de résolution invitant le Gouvernement à ne pas renouveler les mesures restrictives et les sanctions économiques imposées par l&#039;Union européenne à la Fédération de Russie (art. 34-1 de la Constitution)\nDiscussion de la proposition de loi visant à mieux définir l&#039;abus de dépendance économique\nDiscussion, en deuxième lecture, de la proposition de loi renforçant le dialogue avec les supporters et la lutte contre le hooliganisme\nDiscussion de la proposition de loi visant à étendre aux collectivités territoriales le mécanisme de déclassement anticipé, prévu à l&#039;article L. 2141-2 du code général de la propriété des personnes publiques\nDiscussion de la proposition de loi organique, adoptée par le Sénat, relative aux autorités administratives indépendantes et autorités publiques indépendantes \nDiscussion de la proposition de loi, adoptée par le Sénat, portant statut général des autorités administratives indépendantes et des autorités publiques indépendantes\n
DTEND:20160428T112000Z
TRANSP:TRANSPARENT
END:VEVENT
END:VCALENDAR
