BEGIN:VCALENDAR
METHOD:PUBLISH
VERSION:2.0
PRODID:-//Assemblee-Nationale//iCal 3.0//FR
TZ:+00
BEGIN:VEVENT
UID:OMC_RUANR5L14S2016IDS19947
DTSTAMP:20260419T190610Z
DTSTART:20160428T130000Z
SUMMARY:Deuxième séance publique (177e)
LOCATION:Assemblée nationale
DESCRIPTION:Suite de la discussion de la proposition de résolution invitant le Gouvernement à ne pas renouveler les mesures restrictives et les sanctions économiques imposées par l&#039;Union européenne à la Fédération de Russie (art. 34-1 de la Constitution)\nSuite de la discussion de la proposition de loi visant à mieux définir l&#039;abus de dépendance économique\nSuite de la discussion, en deuxième lecture, de la proposition de loi renforçant le dialogue avec les supporters et la lutte contre le hooliganisme\nSuite de la discussion de la proposition de loi organique, adoptée par le Sénat, relative aux autorités administratives indépendantes et autorités publiques indépendantes \nSuite de la discussion de la proposition de loi, adoptée par le Sénat, portant statut général des autorités administratives indépendantes et des autorités publiques indépendantes\nSuite de la discussion de la proposition de loi visant à étendre aux collectivités territoriales le mécanisme de déclassement anticipé, prévu à l&#039;article L. 2141-2 du code général de la propriété des personnes publiques\n
DTEND:20160428T194000Z
TRANSP:TRANSPARENT
END:VEVENT
END:VCALENDAR
