BEGIN:VCALENDAR
METHOD:PUBLISH
VERSION:2.0
PRODID:-//Assemblee-Nationale//iCal 3.0//FR
TZ:+00
BEGIN:VEVENT
UID:OMC_RUANR5L15S2017IDF0093329
DTSTART:20170719T063000Z
DTSTAMP:20260420T045836Z
SUMMARY:Réunion - M. Richard FERRAND
LOCATION:Salon Mars III, 101, rue de l&#039;Université
DESCRIPTION:
DTEND:20170719T073000Z
TRANSP:TRANSPARENT
END:VEVENT
BEGIN:VEVENT
UID:OMC_RUANR5L15S2017IDF0094274
DTSTART:20170719T063000Z
DTSTAMP:20260420T045836Z
SUMMARY:Réunion - La République en Marche
LOCATION:Salle N° 1, 3, rue Aristide Briand
DESCRIPTION:
DTEND:20170719T073000Z
TRANSP:TRANSPARENT
END:VEVENT
BEGIN:VEVENT
UID:OMC_RUANR5L15S2017IDF0094275
DTSTART:20170719T063000Z
DTSTAMP:20260420T045836Z
SUMMARY:Réunion - La République en Marche
LOCATION:4ème Bureau, Palais Bourbon
DESCRIPTION:
DTEND:20170719T073000Z
TRANSP:TRANSPARENT
END:VEVENT
BEGIN:VEVENT
UID:OMC_RUANR5L15S2017IDF0093873
DTSTART:20170719T070000Z
DTSTAMP:20260420T045836Z
SUMMARY:Réunion - La République en Marche
LOCATION:5ème Bureau, Palais Bourbon
DESCRIPTION:
DTEND:20170719T093000Z
TRANSP:TRANSPARENT
END:VEVENT
BEGIN:VEVENT
UID:OMC_RUANR5L15S2017IDF0093876
DTSTART:20170719T070000Z
DTSTAMP:20260420T045836Z
SUMMARY:Réunion - La République en Marche
LOCATION:Salle Colbert , Palais Bourbon
DESCRIPTION:
DTEND:20170719T093000Z
TRANSP:TRANSPARENT
END:VEVENT
BEGIN:VEVENT
UID:OMC_RUANR5L15S2017IDC427149
DTSTART:20170719T071000Z
DTSTAMP:20260420T045836Z
SUMMARY:Réunion de la commission des finances
LOCATION:salle 6350 (Finances)
DESCRIPTION:Audition de M. François Villeroy de Galhau, Gouverneur de la Banque de France.
DTEND:20170719T085500Z
TRANSP:TRANSPARENT
END:VEVENT
BEGIN:VEVENT
UID:OMC_RUANR5L15S2017IDC427104
DTSTART:20170719T071500Z
DTSTAMP:20260420T045836Z
SUMMARY:Réunion de la commission de la défense nationale et des forces armées
LOCATION:salle 4123 (33 rue Saint-Dominique)
DESCRIPTION:Audition du général Jean-Pierre Bosser, chef d’état major de l’armée de terre.
DTEND:20170719T085500Z
TRANSP:TRANSPARENT
END:VEVENT
BEGIN:VEVENT
UID:OMC_RUANR5L15S2017IDC427098
DTSTART:20170719T073000Z
DTSTAMP:20260420T045836Z
SUMMARY:Réunion de la commission des affaires culturelles et de l&#039;éducation
LOCATION:salle 6238 (Affaires culturelles)
DESCRIPTION:Audition de Mme Delphine Ernotte, présidente de France Télévisions, sur l&#039;exécution du contrat d&#039;objectifs et de moyens de la société en 2016.
DTEND:20170719T094500Z
TRANSP:TRANSPARENT
END:VEVENT
BEGIN:VEVENT
UID:OMC_RUANR5L15S2017IDC427145
DTSTART:20170719T073000Z
DTSTAMP:20260420T045836Z
SUMMARY:Réunion de la commission des affaires étrangères
LOCATION:salle de la commission
DESCRIPTION:Examen, ouvert à la presse, et vote sur les projets de loi suivants :\nAccord avec l&#039;Algérie sur les échanges de jeunes actifs (n° 9) ;\nConvention du Conseil de l&#039;Europe pour la prévention du terrorisme  (n° 10) (première lecture) ;\nConvention d’entraide judiciaire en matière pénale entre le Gouvernement de la République française et le Gouvernement de la République algérienne démocratique et populaire (n° 12) (première lecture) ;\nConvention soins de santé ressortissants algériens (n° 13) (première lecture) ;\nRépression d’actes illicites contre la sécurité de la navigation maritime (n° 14) (première lecture).\n
DTEND:20170719T094500Z
TRANSP:TRANSPARENT
END:VEVENT
BEGIN:VEVENT
UID:OMC_RUANR5L15S2017IDF0093874
DTSTART:20170719T073000Z
DTSTAMP:20260420T045836Z
SUMMARY:Réunion - La République en Marche
LOCATION:Salon Mars III, 101, rue de l&#039;Université
DESCRIPTION:
DTEND:20170719T093000Z
TRANSP:TRANSPARENT
END:VEVENT
BEGIN:VEVENT
UID:OMC_RUANR5L15S2017IDC427138
DTSTART:20170719T080000Z
DTSTAMP:20260420T045836Z
SUMMARY:Réunion de la commission des affaires sociales
LOCATION:salle de la commission n° 6351, 1er étage du Palais-Bourbon
DESCRIPTION:Audition de M. Dominique Martin, directeur général de l&#039;Agence nationale de sécurité du médicament et des produits de santé (ANSM) ;\néchanges de vues sur l&#039;organisation des travaux de la commission ;\nModernisation de notre système de santé  (n° 6) (première lecture) (amendements, art 88) ;\nReconnaissance des qualifications professionnelles dans le domaine de la santé  (n° 7) (première lecture) (amendements, art 88) ;\nOrdonnances ordres des professions de santé (n° 8) (première lecture) (amendements, art 88).\n
DTEND:20170719T100000Z
TRANSP:TRANSPARENT
END:VEVENT
BEGIN:VEVENT
UID:OMC_RUANR5L15S2017IDF0093610
DTSTART:20170719T080000Z
DTSTAMP:20260420T045836Z
SUMMARY:Réunion - Mme Marine LE PEN
LOCATION:Salle N° 2, 3, rue Aristide Briand
DESCRIPTION:
DTEND:20170719T100000Z
TRANSP:TRANSPARENT
END:VEVENT
BEGIN:VEVENT
UID:OMC_RUANR5L15S2017IDF0093925
DTSTART:20170719T080000Z
DTSTAMP:20260420T045836Z
SUMMARY:Réunion - M. Boris VALLAUD
LOCATION:9ème Bureau, Palais Bourbon
DESCRIPTION:
DTEND:20170719T093000Z
TRANSP:TRANSPARENT
END:VEVENT
BEGIN:VEVENT
UID:OMC_RUANR5L15S2017IDF0094324
DTSTART:20170719T080000Z
DTSTAMP:20260420T045836Z
SUMMARY:Réunion - Mouvement Démocrate et apparentés
LOCATION:Salle 6822, Palais Bourbon
DESCRIPTION:
DTEND:20170719T090000Z
TRANSP:TRANSPARENT
END:VEVENT
BEGIN:VEVENT
UID:OMC_RUANR5L15S2017IDC427111
DTSTART:20170719T081500Z
DTSTAMP:20260420T045836Z
SUMMARY:Réunion de la commission des lois
LOCATION:salle 6242 (Lois)
DESCRIPTION:Projets de loi organique et ordinaire rétablissant la confiance dans l&#039;action publique. (rapports).
DTEND:20170719T112500Z
TRANSP:TRANSPARENT
END:VEVENT
BEGIN:VEVENT
UID:OMC_RUANR5L15S2017IDF0093944
DTSTART:20170719T084500Z
DTSTAMP:20260420T045836Z
SUMMARY:Réunion - M. Franck RIESTER
LOCATION:4ème Bureau, Palais Bourbon
DESCRIPTION:
DTEND:20170719T104500Z
TRANSP:TRANSPARENT
END:VEVENT
BEGIN:VEVENT
UID:OMC_RUANR5L15S2017IDF0093695
DTSTART:20170719T090000Z
DTSTAMP:20260420T045836Z
SUMMARY:Réunion - La République en Marche
LOCATION:Salle Victor Hugo, 101, rue de l&#039;Université
DESCRIPTION:
DTEND:20170719T110000Z
TRANSP:TRANSPARENT
END:VEVENT
BEGIN:VEVENT
UID:OMC_RUANR5L15S2017IDF0093880
DTSTART:20170719T090000Z
DTSTAMP:20260420T045836Z
SUMMARY:Réunion - M. Michel LAUZZANA
LOCATION:Salle 7207, 101, rue de l&#039;Université
DESCRIPTION:
DTEND:20170719T100000Z
TRANSP:TRANSPARENT
END:VEVENT
BEGIN:VEVENT
UID:OMC_RUANR5L15S2017IDC427150
DTSTART:20170719T091000Z
DTSTAMP:20260420T045836Z
SUMMARY:Réunion de la commission des finances
LOCATION:salle 6350 (Finances)
DESCRIPTION:Audition de M. Robert Ophèle, dont la nomination en qualité de président de l’Autorité des marchés financiers est envisagée par le Président de la République, puis vote sur cette proposition de nomination (article 13 de la Constitution)
DTEND:20170719T101500Z
TRANSP:TRANSPARENT
END:VEVENT
BEGIN:VEVENT
UID:OMC_RUANR5L15S2017IDC427105
DTSTART:20170719T091500Z
DTSTAMP:20260420T045836Z
SUMMARY:Réunion de la commission de la défense nationale et des forces armées
LOCATION:salle 4123 (33 rue Saint-Dominique)
DESCRIPTION:Audition du général André Lanata, chef d’état major de l’armée de l’air ;\nDésignation de rapporteurs pour avis sur le projet de loi de finances pour 2018.\n
DTEND:20170719T110000Z
TRANSP:TRANSPARENT
END:VEVENT
BEGIN:VEVENT
UID:OMC_RUANR5L15S2017IDF0094338
DTSTART:20170719T094500Z
DTSTAMP:20260420T045836Z
SUMMARY:Réunion - M. Aurélien TACHÉ
LOCATION:Salon Gabriel, 101, rue de l&#039;Université
DESCRIPTION:
DTEND:20170719T103000Z
TRANSP:TRANSPARENT
END:VEVENT
BEGIN:VEVENT
UID:OMC_RUANR5L15S2017IDF0093840
DTSTAMP:20260420T045836Z
DTSTART:20170719T100000Z
SUMMARY:Réunion - Mme Laure DE LA RAUDIÈRE
LOCATION:Salle 7207, 101, rue de l&#039;Université
DESCRIPTION:
DTEND:20170719T110000Z
TRANSP:TRANSPARENT
END:VEVENT
BEGIN:VEVENT
UID:OMC_RUANR5L15S2017IDF0093480
DTSTAMP:20260420T045836Z
DTSTART:20170719T113000Z
SUMMARY:Réunion - M. Dominique POTIER
LOCATION:Salon Gabriel, 101, rue de l&#039;Université
DESCRIPTION:
DTEND:20170719T130000Z
TRANSP:TRANSPARENT
END:VEVENT
BEGIN:VEVENT
UID:OMC_RUANR5L15S2017IDF0093856
DTSTAMP:20260420T045836Z
DTSTART:20170719T113000Z
SUMMARY:Réunion - Mme Cécile UNTERMAIER
LOCATION:4ème Bureau, Palais Bourbon
DESCRIPTION:
DTEND:20170719T130000Z
TRANSP:TRANSPARENT
END:VEVENT
BEGIN:VEVENT
UID:OMC_RUANR5L15S2017IDF0093875
DTSTAMP:20260420T045836Z
DTSTART:20170719T120000Z
SUMMARY:Réunion - M. Yves BLEIN
LOCATION:Salle 6822, Palais Bourbon
DESCRIPTION:
DTEND:20170719T130000Z
TRANSP:TRANSPARENT
END:VEVENT
BEGIN:VEVENT
UID:OMC_RUANR5L15S2017IDF0093878
DTSTAMP:20260420T045836Z
DTSTART:20170719T120000Z
SUMMARY:Réunion - M. Philippe FOLLIOT
LOCATION:Salon Visconti, 101, rue de l&#039;Université
DESCRIPTION:
DTEND:20170719T130000Z
TRANSP:TRANSPARENT
END:VEVENT
BEGIN:VEVENT
UID:OMC_RUANR5L15S2017IDF0094261
DTSTAMP:20260420T045836Z
DTSTART:20170719T120000Z
SUMMARY:Réunion - Mme Valérie PETIT
LOCATION:Salle N° 3, 3, rue Aristide Briand
DESCRIPTION:
DTEND:20170719T130000Z
TRANSP:TRANSPARENT
END:VEVENT
BEGIN:VEVENT
UID:OMC_RUANR5L15S2017IDF0094271
DTSTAMP:20260420T045836Z
DTSTART:20170719T120000Z
SUMMARY:Réunion - La République en Marche
LOCATION:Salon Mars I, 101, rue de l&#039;Université
DESCRIPTION:
DTEND:20170719T130000Z
TRANSP:TRANSPARENT
END:VEVENT
BEGIN:VEVENT
UID:OMC_RUANR5L15S2017IDF0094288
DTSTAMP:20260420T045836Z
DTSTART:20170719T120000Z
SUMMARY:Réunion - Mme Perrine GOULET
LOCATION:Salle 6809, Palais Bourbon
DESCRIPTION:
DTEND:20170719T130000Z
TRANSP:TRANSPARENT
END:VEVENT
BEGIN:VEVENT
UID:OMC_RUANR5L15S2017IDF0094314
DTSTAMP:20260420T045836Z
DTSTART:20170719T120000Z
SUMMARY:Réunion - M. Arnaud VIALA
LOCATION:Salon Mansart, 101, rue de l&#039;Université
DESCRIPTION:
DTEND:20170719T130000Z
TRANSP:TRANSPARENT
END:VEVENT
BEGIN:VEVENT
UID:OMC_RUANR5L15S2017IDF0094317
DTSTAMP:20260420T045836Z
DTSTART:20170719T120000Z
SUMMARY:Réunion - M. Jean-François CESARINI
LOCATION:Salon Mars II, 101, rue de l&#039;Université
DESCRIPTION:
DTEND:20170719T133000Z
TRANSP:TRANSPARENT
END:VEVENT
BEGIN:VEVENT
UID:OMC_RUANR5L15S2017IDF0094322
DTSTAMP:20260420T045836Z
DTSTART:20170719T120000Z
SUMMARY:Réunion - Mme Émilie GUEREL
LOCATION:Salle 7207, 101, rue de l&#039;Université
DESCRIPTION:
DTEND:20170719T160000Z
TRANSP:TRANSPARENT
END:VEVENT
BEGIN:VEVENT
UID:OMC_RUANR5L15S2017IDF0093933
DTSTAMP:20260420T045836Z
DTSTART:20170719T121500Z
SUMMARY:Réunion - M. Ludovic MENDES
LOCATION:5ème Bureau, Palais Bourbon
DESCRIPTION:
DTEND:20170719T130000Z
TRANSP:TRANSPARENT
END:VEVENT
BEGIN:VEVENT
UID:OMC_RUANR5L15S2017IDS20620
DTSTAMP:20260420T045836Z
DTSTART:20170719T130000Z
SUMMARY:Première séance publique (15e)
LOCATION:Assemblée nationale
DESCRIPTION:Questions au Gouvernement\nDiscussion du projet de loi ratifiant l&#039;ordonnance n° 2017-31 du 12 janvier 2017 de mise en cohérence des textes au regard des dispositions de la loi n° 2016-41 du 26 janvier 2016 de modernisation de notre système de santé\nDiscussion du projet de loi ratifiant l&#039;ordonnance n° 2017-48 du 19 janvier 2017 relative à la profession de physicien médical et l&#039;ordonnance n° 2017-50 du 19 janvier 2017 relative à la reconnaissance des qualifications professionnelles dans le domaine de la santé\nDiscussion du projet de loi ratifiant l&#039;ordonnance n° 2017-644 du 27 avril 2017 relative à l&#039;adaptation des dispositions législatives relatives au fonctionnement des ordres des professions de santé\n
DTEND:20170719T182000Z
TRANSP:TRANSPARENT
END:VEVENT
BEGIN:VEVENT
UID:OMC_RUANR5L15S2017IDF0093343
DTSTAMP:20260420T045836Z
DTSTART:20170719T140000Z
SUMMARY:Réunion - Mme Delphine BATHO
LOCATION:Salon Mars I, 101, rue de l&#039;Université
DESCRIPTION:
DTEND:20170719T160000Z
TRANSP:TRANSPARENT
END:VEVENT
BEGIN:VEVENT
UID:OMC_RUANR5L15S2017IDF0093889
DTSTAMP:20260420T045836Z
DTSTART:20170719T140000Z
SUMMARY:Réunion - M. Jean-Noël BARROT
LOCATION:Salle N° 3, 3, rue Aristide Briand
DESCRIPTION:
DTEND:20170719T153000Z
TRANSP:TRANSPARENT
END:VEVENT
BEGIN:VEVENT
UID:OMC_RUANR5L15S2017IDF0094266
DTSTAMP:20260420T045836Z
DTSTART:20170719T140000Z
SUMMARY:Réunion - M. Pierre-Henri DUMONT
LOCATION:Salle 6809, Palais Bourbon
DESCRIPTION:
DTEND:20170719T160000Z
TRANSP:TRANSPARENT
END:VEVENT
BEGIN:VEVENT
UID:OMC_RUANR5L15S2017IDF0094358
DTSTAMP:20260420T045836Z
DTSTART:20170719T140000Z
SUMMARY:Réunion - La République en Marche
LOCATION:Salle Colbert , Palais Bourbon
DESCRIPTION:
DTEND:20170719T143000Z
TRANSP:TRANSPARENT
END:VEVENT
BEGIN:VEVENT
UID:OMC_RUANR5L15S2017IDC427099
DTSTAMP:20260420T045836Z
DTSTART:20170719T143000Z
SUMMARY:Réunion de la commission des affaires culturelles et de l&#039;éducation
LOCATION:salle 6238 (Affaires culturelles)
DESCRIPTION:Audition de Mme Frédérique Vidal, ministre de l&#039;enseignement supérieur, de la recherche et de l&#039;innovation.
DTEND:20170719T170000Z
TRANSP:TRANSPARENT
END:VEVENT
BEGIN:VEVENT
UID:OMC_RUANR5L15S2017IDC427103
DTSTAMP:20260420T045836Z
DTSTART:20170719T143000Z
SUMMARY:Réunion de la commission du développement durable et de l&#039;aménagement du territoire
LOCATION:salle Lamartine
DESCRIPTION:Audition de Mme Élisabeth Borne, ministre auprès du ministre d&#039;État, ministre de la Transition écologique et solidaire, chargée des transports.
DTEND:20170719T164500Z
TRANSP:TRANSPARENT
END:VEVENT
BEGIN:VEVENT
UID:OMC_RUANR5L15S2017IDC427112
DTSTAMP:20260420T045836Z
DTSTART:20170719T143000Z
SUMMARY:Réunion de la commission des lois
LOCATION:salle 6242 (Lois)
DESCRIPTION:Projets de loi organique et ordinaire rétablissant la confiance dans l&#039;action publique.(suite)  (rapports).
DTEND:20170719T175500Z
TRANSP:TRANSPARENT
END:VEVENT
BEGIN:VEVENT
UID:OMC_RUANR5L15S2017IDF0094257
DTSTAMP:20260420T045836Z
DTSTART:20170719T143000Z
SUMMARY:Réunion - M. Boris VALLAUD
LOCATION:9ème Bureau, Palais Bourbon
DESCRIPTION:
DTEND:20170719T160000Z
TRANSP:TRANSPARENT
END:VEVENT
BEGIN:VEVENT
UID:OMC_RUANR5L15S2017IDC427129
DTSTAMP:20260420T045836Z
DTSTART:20170719T144500Z
SUMMARY:Réunion de la commission spéciale chargée de vérifier et d&#039;apurer les comptes
LOCATION:5e Bureau
DESCRIPTION:élection du Bureau.
DTEND:20170719T154000Z
TRANSP:TRANSPARENT
END:VEVENT
BEGIN:VEVENT
UID:OMC_RUANR5L15S2017IDF0094297
DTSTAMP:20260420T045836Z
DTSTART:20170719T150000Z
SUMMARY:Réunion - M. Jean-René CAZENEUVE
LOCATION:Salle 7426, 101, rue de l&#039;Université
DESCRIPTION:
DTEND:20170719T163000Z
TRANSP:TRANSPARENT
END:VEVENT
BEGIN:VEVENT
UID:OMC_RUANR5L15S2017IDF0094325
DTSTAMP:20260420T045836Z
DTSTART:20170719T150000Z
SUMMARY:Réunion - M. Julien DIVE
LOCATION:Salle N° 1, 3, rue Aristide Briand
DESCRIPTION:
DTEND:20170719T153000Z
TRANSP:TRANSPARENT
END:VEVENT
BEGIN:VEVENT
UID:OMC_RUANR5L15S2017IDF0094361
DTSTAMP:20260420T045836Z
DTSTART:20170719T160000Z
SUMMARY:Réunion - M. Yves BLEIN
LOCATION:Salle 6822, Palais Bourbon
DESCRIPTION:
DTEND:20170719T170000Z
TRANSP:TRANSPARENT
END:VEVENT
BEGIN:VEVENT
UID:OMC_RUANR5L15S2017IDF0094293
DTSTAMP:20260420T045836Z
DTSTART:20170719T163000Z
SUMMARY:Réunion - Mme Laurianne ROSSI
LOCATION:5ème Bureau, Palais Bourbon
DESCRIPTION:
DTEND:20170719T180000Z
TRANSP:TRANSPARENT
END:VEVENT
BEGIN:VEVENT
UID:OMC_RUANR5L15S2017IDF0093849
DTSTAMP:20260420T045836Z
DTSTART:20170719T164500Z
SUMMARY:Réunion - Mme Annie CHAPELIER
LOCATION:Salle 7426, 101, rue de l&#039;Université
DESCRIPTION:
DTEND:20170719T180000Z
TRANSP:TRANSPARENT
END:VEVENT
BEGIN:VEVENT
UID:OMC_RUANR5L15S2017IDC427122
DTSTAMP:20260420T045836Z
DTSTART:20170719T170500Z
SUMMARY:Réunion de la commission des affaires économiques
LOCATION:6e Bureau
DESCRIPTION:Audition de M. Bruno Le Maire, ministre de l’économie et des finances, et de M. Benjamin Griveaux, secrétaire d’État.
DTEND:20170719T193000Z
TRANSP:TRANSPARENT
END:VEVENT
BEGIN:VEVENT
UID:OMC_RUANR5L15S2017IDC427113
DTSTAMP:20260420T045836Z
DTSTART:20170719T191500Z
SUMMARY:Réunion de la commission des lois
LOCATION:salle 6242 (Lois)
DESCRIPTION:Projets de loi organique et ordinaire rétablissant la confiance dans l&#039;action publique.(suite)  (rapports).
DTEND:20170720T011500Z
TRANSP:TRANSPARENT
END:VEVENT
END:VCALENDAR
