BEGIN:VCALENDAR
METHOD:PUBLISH
VERSION:2.0
PRODID:-//Assemblee-Nationale//iCal 3.0//FR
TZ:+00
BEGIN:VEVENT
UID:OMC_RUANR5L15S2017IDC427099
DTSTAMP:20260420T011825Z
DTSTART:20170719T143000Z
SUMMARY:Réunion de la commission des affaires culturelles et de l&#039;éducation
LOCATION:salle 6238 (Affaires culturelles)
DESCRIPTION:Audition de Mme Frédérique Vidal, ministre de l&#039;enseignement supérieur, de la recherche et de l&#039;innovation.
DTEND:20170719T170000Z
TRANSP:TRANSPARENT
END:VEVENT
END:VCALENDAR
