BEGIN:VCALENDAR
METHOD:PUBLISH
VERSION:2.0
PRODID:-//Assemblee-Nationale//iCal 3.0//FR
TZ:+00
BEGIN:VEVENT
UID:OMC_RUANR5L15S2017IDC427112
DTSTAMP:20260421T100804Z
DTSTART:20170719T143000Z
SUMMARY:Réunion de la commission des lois
LOCATION:salle 6242 (Lois)
DESCRIPTION:Projets de loi organique et ordinaire rétablissant la confiance dans l&#039;action publique.(suite)  (rapports).
DTEND:20170719T175500Z
TRANSP:TRANSPARENT
END:VEVENT
END:VCALENDAR
