BEGIN:VCALENDAR
METHOD:PUBLISH
VERSION:2.0
PRODID:-//Assemblee-Nationale//iCal 3.0//FR
TZ:+00
BEGIN:VEVENT
UID:OMC_RUANR5L15S2017IDC427122
DTSTAMP:20260420T032919Z
DTSTART:20170719T170500Z
SUMMARY:Réunion de la commission des affaires économiques
LOCATION:6e Bureau
DESCRIPTION:Audition de M. Bruno Le Maire, ministre de l’économie et des finances, et de M. Benjamin Griveaux, secrétaire d’État.
DTEND:20170719T193000Z
TRANSP:TRANSPARENT
END:VEVENT
END:VCALENDAR
