BEGIN:VCALENDAR
METHOD:PUBLISH
VERSION:2.0
PRODID:-//Assemblee-Nationale//iCal 3.0//FR
TZ:+00
BEGIN:VEVENT
UID:OMC_RUANR5L15S2017IDF0093329
DTSTAMP:20260420T031708Z
DTSTART:20170719T063000Z
SUMMARY:Réunion - M. Richard FERRAND
LOCATION:Salon Mars III, 101, rue de l&#039;Université
DESCRIPTION:
DTEND:20170719T073000Z
TRANSP:TRANSPARENT
END:VEVENT
END:VCALENDAR
