BEGIN:VCALENDAR
METHOD:PUBLISH
VERSION:2.0
PRODID:-//Assemblee-Nationale//iCal 3.0//FR
TZ:+00
BEGIN:VEVENT
UID:OMC_RUANR5L15S2017IDF0095173
DTSTART:20170929T070000Z
DTSTAMP:20260422T183031Z
SUMMARY:Réunion - M. Pierre-Yves BOURNAZEL
LOCATION:Salle 6809, Palais Bourbon
DESCRIPTION:
DTEND:20170929T090000Z
TRANSP:TRANSPARENT
END:VEVENT
BEGIN:VEVENT
UID:OMC_RUANR5L15S2017IDF0096376
DTSTART:20170929T073000Z
DTSTAMP:20260422T183031Z
SUMMARY:Réunion - M. Laurent PIETRASZEWSKI
LOCATION:5ème Bureau, Palais Bourbon
DESCRIPTION:
DTEND:20170929T103000Z
TRANSP:TRANSPARENT
END:VEVENT
BEGIN:VEVENT
UID:OMC_RUANR5L15S2017IDF0097165
DTSTART:20170929T073000Z
DTSTAMP:20260422T183031Z
SUMMARY:Réunion - La République en Marche
LOCATION:3ème Bureau, Palais Bourbon
DESCRIPTION:
DTEND:20170929T100000Z
TRANSP:TRANSPARENT
END:VEVENT
BEGIN:VEVENT
UID:OMC_RUANR5L15S2017IDF0097464
DTSTART:20170929T073000Z
DTSTAMP:20260422T183031Z
SUMMARY:Réunion - Mme Paula FORTEZA
LOCATION:Salle 7426, 101, rue de l&#039;Université
DESCRIPTION:
DTEND:20170929T163000Z
TRANSP:TRANSPARENT
END:VEVENT
BEGIN:VEVENT
UID:OMC_RUANR5L15S2017IDF0097546
DTSTART:20170929T074500Z
DTSTAMP:20260422T183031Z
SUMMARY:Réunion - M. Didier MARTIN
LOCATION:Sully 1, Palais Bourbon
DESCRIPTION:
DTEND:20170929T091500Z
TRANSP:TRANSPARENT
END:VEVENT
BEGIN:VEVENT
UID:OMC_RUANR5L15S2017IDF0096641
DTSTART:20170929T080000Z
DTSTAMP:20260422T183031Z
SUMMARY:Réunion - M. Roland LESCURE
LOCATION:Salon Mansart, 101, rue de l&#039;Université
DESCRIPTION:
DTEND:20170929T090000Z
TRANSP:TRANSPARENT
END:VEVENT
BEGIN:VEVENT
UID:OMC_RUANR5L15S2017IDF0097489
DTSTAMP:20260422T183031Z
DTSTART:20170929T100000Z
SUMMARY:Réunion - M. Cédric VILLANI
LOCATION:Salle 6809, Palais Bourbon
DESCRIPTION:
DTEND:20170929T120000Z
TRANSP:TRANSPARENT
END:VEVENT
BEGIN:VEVENT
UID:OMC_RUANR5L15S2017IDF0095258
DTSTAMP:20260422T183031Z
DTSTART:20170929T130000Z
SUMMARY:Réunion - M. Jacques MARILOSSIAN
LOCATION:3ème Bureau, Palais Bourbon
DESCRIPTION:
DTEND:20170929T141500Z
TRANSP:TRANSPARENT
END:VEVENT
BEGIN:VEVENT
UID:OMC_RUANR5L15S2017IDF0096426
DTSTAMP:20260422T183031Z
DTSTART:20170929T130000Z
SUMMARY:Réunion - Mme Constance LE GRIP
LOCATION:Salle 6822, Palais Bourbon
DESCRIPTION:
DTEND:20170929T150000Z
TRANSP:TRANSPARENT
END:VEVENT
BEGIN:VEVENT
UID:OMC_RUANR5L15S2017IDF0096675
DTSTAMP:20260422T183031Z
DTSTART:20170929T130000Z
SUMMARY:Réunion - France-Cambodge
LOCATION:5ème Bureau, Palais Bourbon
DESCRIPTION:
DTEND:20170929T140000Z
TRANSP:TRANSPARENT
END:VEVENT
BEGIN:VEVENT
UID:OMC_RUANR5L15S2017IDF0097119
DTSTAMP:20260422T183031Z
DTSTART:20170929T130000Z
SUMMARY:Réunion - La République en Marche
LOCATION:2ème Bureau, Palais Bourbon
DESCRIPTION:
DTEND:20170929T143000Z
TRANSP:TRANSPARENT
END:VEVENT
BEGIN:VEVENT
UID:OMC_RUANR5L15S2017IDF0096964
DTSTAMP:20260422T183031Z
DTSTART:20170929T143000Z
SUMMARY:Réunion - M. Jacques MARILOSSIAN
LOCATION:Salle 6809, Palais Bourbon
DESCRIPTION:
DTEND:20170929T153000Z
TRANSP:TRANSPARENT
END:VEVENT
END:VCALENDAR
