BEGIN:VCALENDAR
METHOD:PUBLISH
VERSION:2.0
PRODID:-//Assemblee-Nationale//iCal 3.0//FR
TZ:+00
BEGIN:VEVENT
UID:OMC_RUANR5L15S2018IDC427511
DTSTAMP:20260420T132029Z
DTSTART:20171012T110000Z
SUMMARY:Réunion du groupe de travail sur les conditions de travail à l&#039;Assemblée nationale et le statut des collaborateurs parlementaires
LOCATION:salle 4223 (33 rue Saint-Dominique)
DESCRIPTION:à 13 heures :- audition de M. Hugues de Balathier-Lantage, adjoint à la déléguée générale à l’emploi et à la formation professionnelle du ministère du travail ;à 13 h 45 :- audition de M. Jean-Henri Pyronnet, sous-directeur des relations individuelles et collectives du travail à la Direction générale du travail du ministère du travail ;à 14 h 30 :- audition de M. François-Xavier Selleret, directeur général de l’Association générale des institutions de retraite complémentaire des cadres (AGIRC).
DTEND:20171012T130000Z
TRANSP:TRANSPARENT
END:VEVENT
END:VCALENDAR
