BEGIN:VCALENDAR
METHOD:PUBLISH
VERSION:2.0
PRODID:-//Assemblee-Nationale//iCal 3.0//FR
TZ:+00
BEGIN:VEVENT
UID:OMC_RUANR5L15S2018IDC427602
DTSTAMP:20260420T012534Z
DTSTART:20171019T093500Z
SUMMARY:Réunion du groupe de travail sur les moyens de contrôle et d&#039;évaluation
LOCATION:6e Bureau
DESCRIPTION:Audition de M. Xavier Ragot, président de l’Observatoire français des conjonctures économiques (OFCE) et de M. Olivier Rozenberg, professeur à Sciences-Po (laboratoire Interdisciplinaire d&#039;Évaluation des Politiques Publiques - LIEPP).
DTEND:20171019T105000Z
TRANSP:TRANSPARENT
END:VEVENT
END:VCALENDAR
