BEGIN:VCALENDAR
METHOD:PUBLISH
VERSION:2.0
PRODID:-//Assemblee-Nationale//iCal 3.0//FR
TZ:+00
BEGIN:VEVENT
UID:OMC_RUANR5L15S2018IDC427639
DTSTAMP:20260420T213743Z
DTSTART:20171026T140500Z
SUMMARY:Réunion du groupe de travail sur l&#039;ouverture de l&#039;Assemblée nationale à la société et son rayonnement scientifique et culturel
LOCATION:salle 6237 (Développement durable)
DESCRIPTION:à 16 heures : audition de M. Jean-Louis Debré, ancien président de l’Assemblée nationale, ancien président du Conseil constitutionnel, président du Conseil supérieur des archives ;\nà 17 heures : audition de Mme Corinne Bouchoux, ancienne sénatrice, rapporteure de « Refonder le droit à l’information publique à l’heure du numérique : un enjeu citoyen, une opportunité stratégique » (Juin 2014).\n
DTEND:20171026T155500Z
TRANSP:TRANSPARENT
END:VEVENT
END:VCALENDAR
