BEGIN:VCALENDAR
METHOD:PUBLISH
VERSION:2.0
PRODID:-//Assemblee-Nationale//iCal 3.0//FR
TZ:+00
BEGIN:VEVENT
UID:OMC_RUANR5L15S2018IDC428577
DTSTAMP:20260420T161933Z
DTSTART:20180214T153000Z
SUMMARY:Réunion de la mission d&#039;information sur l&#039;aide au développement : quelles nouvelles approches pour l&#039;aide française au développement ?
LOCATION:salle 4203 (33, rue Saint-Dominique, 2ème étage)
DESCRIPTION:Audition de M. François Légué, sous-directeur du développement à la Direction du développement durable, au Ministère de l’Europe et des affaires étrangères.
DTEND:20180214T163000Z
TRANSP:TRANSPARENT
END:VEVENT
END:VCALENDAR
