BEGIN:VCALENDAR
METHOD:PUBLISH
VERSION:2.0
PRODID:-//Assemblee-Nationale//iCal 3.0//FR
TZ:+00
BEGIN:VEVENT
UID:OMC_RUANR5L15S2019IDC431596
DTSTAMP:20260420T221722Z
DTSTART:20190313T151500Z
SUMMARY:Réunion de la mission d&#039;information commune sur les perturbateurs endocriniens présents dans les contenants en plastique
LOCATION:salle 6550 (2e étage)
DESCRIPTION:Audition de Mme Elodie Chapel, directrice des politiques d’autorisation et d’innovation (DPAI) de l’Agence nationale de sécurité du médicament et des produits de santé (Ansm), et de M. Thierry Thomas, directeur des dispositifs médicaux des cosmétiques et des dispositifs de diagnostic in vitro.
DTEND:20190313T161500Z
TRANSP:TRANSPARENT
END:VEVENT
END:VCALENDAR
