BEGIN:VCALENDAR
METHOD:PUBLISH
VERSION:2.0
PRODID:-//Assemblee-Nationale//iCal 3.0//FR
TZ:+00
BEGIN:VEVENT
UID:OMC_RUANR5L15S2019IDC432134
DTSTAMP:20260420T164228Z
DTSTART:20190404T144000Z
SUMMARY:Réunion de la commission d&#039;enquête sur l&#039;impact économique, industriel et environnemental des énergies renouvelables, sur la transparence des financements et sur l&#039;acceptabilité sociale des politiques de transition énergétique
LOCATION:salle Lamartine
DESCRIPTION:Table ronde, ouverte à la presse, réunissant des économistes de l’énergie, avec la participation de Mme la Professeure Anna Creti (Université Paris-Dauphine), de M. Cédric Philibert, analyste expert des énergies renouvelables à l’Agence internationale de l’énergie (AIE) et de M. Nicolas Berghmans, chercheur à l’Institut du développement durable et des relations internationales (IDDRI).
DTEND:20190404T160500Z
TRANSP:TRANSPARENT
END:VEVENT
END:VCALENDAR
