BEGIN:VCALENDAR
METHOD:PUBLISH
VERSION:2.0
PRODID:-//Assemblee-Nationale//iCal 3.0//FR
TZ:+00
BEGIN:VEVENT
UID:OMC_RUANR5L15S2019IDC432435
DTSTAMP:20260420T200757Z
DTSTART:20190430T141500Z
SUMMARY:Réunion de la mission d&#039;évaluation et de contrôle des lois de financement de la sécurité sociale
LOCATION:salle 4325 (33 rue Saint-Dominique)
DESCRIPTION:Le dossier médical partagé et les données numériques de santé (M. Cyrille Isaac-Sibille, rapporteur) : audition de Mme Pascale Sauvage, directrice de l’Agence nationale des systèmes d’information partagés de santé (ASIP Santé). 
DTEND:20190430T155500Z
TRANSP:TRANSPARENT
END:VEVENT
END:VCALENDAR
