BEGIN:VCALENDAR
METHOD:PUBLISH
VERSION:2.0
PRODID:-//Assemblee-Nationale//iCal 3.0//FR
TZ:+00
BEGIN:VEVENT
UID:OMC_RUANR5L15S2019IDC433757
DTSTAMP:20260420T133514Z
DTSTART:20190926T081500Z
SUMMARY:Réunion de la mission d’information commune sur le régime des interdictions de stade et le supportérisme
LOCATION:salle 6566 (Lois)
DESCRIPTION:Audition de M. Christian de Rocquigny du Fayel, sous-directeur de la justice pénale générale à la direction des affaires criminelles et des grâces, et de Mme Claire Quesnel, adjointe au chef du bureau.
DTEND:20190926T093000Z
TRANSP:TRANSPARENT
END:VEVENT
END:VCALENDAR
