BEGIN:VCALENDAR
METHOD:PUBLISH
VERSION:2.0
PRODID:-//Assemblee-Nationale//iCal 3.0//FR
TZ:+00
BEGIN:VEVENT
UID:OMC_RUANR5L15S2020IDC434400
DTSTAMP:20260420T014134Z
DTSTART:20191210T180500Z
SUMMARY:Réunion de la mission d&#039;information sur la concrétisation des lois
LOCATION:salle 6237
DESCRIPTION:Audition de Mme Martine de Boisdeffre, présidente de la section du rapport et des études du Conseil d’État, de M. Jean-Denis Combrexelle, président de la section du contentieux, de M Rémi Bouchez, président de la section de l’administration, et de M. Thierry-Xavier Girardot, secrétaire général.
DTEND:20191210T191500Z
TRANSP:TRANSPARENT
END:VEVENT
END:VCALENDAR
