BEGIN:VCALENDAR
METHOD:PUBLISH
VERSION:2.0
PRODID:-//Assemblee-Nationale//iCal 3.0//FR
TZ:+00
BEGIN:VEVENT
UID:OMC_RUANR5L15S2020IDC434984
DTSTAMP:20260420T035304Z
DTSTART:20200205T133000Z
SUMMARY:Réunion de la commission d&#039;enquête sur les obstacles à l&#039;indépendance du pouvoir judiciaire
LOCATION:6350
DESCRIPTION:Audition de M. François Molins, procureur général près la Cour de cassation.
DTEND:20200205T151500Z
TRANSP:TRANSPARENT
END:VEVENT
END:VCALENDAR
