BEGIN:VCALENDAR
METHOD:PUBLISH
VERSION:2.0
PRODID:-//Assemblee-Nationale//iCal 3.0//FR
TZ:+00
BEGIN:VEVENT
UID:OMC_RUANR5L15S2020IDC435356
DTSTAMP:20260420T013902Z
DTSTART:20200218T162500Z
SUMMARY:Réunion de la mission d&#039;information commune sur l&#039;identité numérique
LOCATION:salle 6237
DESCRIPTION:Audition de M. Cédric O, secrétaire d’État chargé du numérique.  
DTEND:20200218T173000Z
TRANSP:TRANSPARENT
END:VEVENT
END:VCALENDAR
