BEGIN:VCALENDAR
METHOD:PUBLISH
VERSION:2.0
PRODID:-//Assemblee-Nationale//iCal 3.0//FR
TZ:+00
BEGIN:VEVENT
UID:OMC_RUANR5L15S2020IDC435283
DTSTAMP:20260420T163424Z
DTSTART:20200225T174500Z
SUMMARY:Réunion de la commission d’enquête relative à la lutte contre les fraudes aux prestations sociales
LOCATION:salle 6351 (Affaires sociales)
DESCRIPTION:Audition de Mme Maryvonne Le Brignonen, directrice du service Tracfin.
DTEND:20200225T185000Z
TRANSP:TRANSPARENT
END:VEVENT
END:VCALENDAR
