BEGIN:VCALENDAR
METHOD:PUBLISH
VERSION:2.0
PRODID:-//Assemblee-Nationale//iCal 3.0//FR
TZ:+00
BEGIN:VEVENT
UID:OMC_RUANR5L15S2020IDC435970
DTSTAMP:20260420T164324Z
DTSTART:20200422T153000Z
SUMMARY:Réunion de la mission d’information sur l’impact, la gestion et les conséquences dans toutes ses dimensions de l’épidémie de Coronavirus-Covid 19
LOCATION:Visioconférence
DESCRIPTION:Audition de Mme Muriel Pénicaud, ministre du travail.
DTEND:20200422T182500Z
TRANSP:TRANSPARENT
END:VEVENT
END:VCALENDAR
