BEGIN:VCALENDAR
METHOD:PUBLISH
VERSION:2.0
PRODID:-//Assemblee-Nationale//iCal 3.0//FR
TZ:+00
BEGIN:VEVENT
UID:OMC_RUANR5L15S2021IDF0155325
DTSTART:20201104T073000Z
DTSTAMP:20260422T153029Z
SUMMARY:Réunion - La République en Marche
LOCATION:Salon Visconti, 101, rue de l&#039;Université
DESCRIPTION:
DTEND:20201104T083000Z
TRANSP:TRANSPARENT
END:VEVENT
BEGIN:VEVENT
UID:OMC_RUSNR5L15S2021IDS23450
DTSTART:20201104T080000Z
DTSTAMP:20260422T153029Z
SUMMARY:Séance publique (1e)
LOCATION:Sénat
DESCRIPTION:Discussion\nDiscussion\nDiscussion\nDiscussion\nDiscussion\nDiscussion\n
DTEND:20201104T090000Z
TRANSP:TRANSPARENT
END:VEVENT
BEGIN:VEVENT
UID:OMC_RUANR5L15S2021IDC437629
DTSTART:20201104T080000Z
DTSTAMP:20260422T153029Z
SUMMARY:Réunion de la commission des finances
LOCATION:salle de la commission des Finances
DESCRIPTION:Suite de l&#039;examen de la seconde partie du projet de loi de finances pour 2021 (n° 3360)  : \nExamen des articles 42 à 52, non rattachés et des articles de récapitulation 33 à 41 (M. Laurent Saint-Martin, rapporteur général) ;\nVote sur l’ensemble du texte.\n
DTEND:20201104T101500Z
TRANSP:TRANSPARENT
END:VEVENT
BEGIN:VEVENT
UID:OMC_RUANR5L15S2021IDC437779
DTSTART:20201104T080000Z
DTSTAMP:20260422T153029Z
SUMMARY:Réunion de la commission des affaires économiques
LOCATION:Par visioconférence
DESCRIPTION:Réunion en visioconférence avec la commission de l’économie et de l’énergie du Bundestag sur les sujets liés à l’hydrogène et aux piles à combustible (réunion réservée aux députés s’étant préalablement inscrits auprès du secrétariat).
DTEND:20201104T090000Z
TRANSP:TRANSPARENT
END:VEVENT
BEGIN:VEVENT
UID:OMC_RUANR5L15S2021IDF0154257
DTSTART:20201104T080000Z
DTSTAMP:20260422T153029Z
SUMMARY:Réunion - Mme Marine LE PEN
LOCATION:Salle N° 2, 3, rue Aristide Briand
DESCRIPTION:
DTEND:20201104T113000Z
TRANSP:TRANSPARENT
END:VEVENT
BEGIN:VEVENT
UID:OMC_RUANR5L15S2021IDC437824
DTSTART:20201104T083000Z
DTSTAMP:20260422T153029Z
SUMMARY:Réunion de la commission des affaires étrangères
LOCATION:salle 4223 (33 rue Saint-Dominique) et visioconférence
DESCRIPTION:Examen, ouvert à la presse, et vote sur le projet de loi suivant :\nProjet de loi autorisant la ratification du protocole portant amendement de la convention relative aux infractions et à certains autres actes survenant à bord des aéronefs (n° 2494) (M. Pierre Cordier, rapporteur). \n
DTEND:20201104T092000Z
TRANSP:TRANSPARENT
END:VEVENT
BEGIN:VEVENT
UID:OMC_RUANR5L15S2021IDC437917
DTSTART:20201104T083000Z
DTSTAMP:20260422T153029Z
SUMMARY:Réunion de la commission des affaires sociales
LOCATION:salle 6351 (Affaires sociales)
DESCRIPTION:Désignation d&#039;un rapporteur ;\nProjet de loi de finances pour 2021 (n° 3360) (seconde partie) : \nExamen et vote des crédits de la mission Régimes sociaux et de retraite et du compte d’affectation spéciale Pensions.\n
DTEND:20201104T094500Z
TRANSP:TRANSPARENT
END:VEVENT
BEGIN:VEVENT
UID:OMC_RUANR5L15S2021IDC437648
DTSTART:20201104T083500Z
DTSTAMP:20260422T153029Z
SUMMARY:Réunion de la commission du développement durable et de l&#039;aménagement du territoire
LOCATION:salle 6238 (Développement durable)
DESCRIPTION:Projet de loi de finances pour 2021 (n° 3360) :\nSuite de l’examen pour avis des crédits de la mission « Écologie, développement et mobilité durables » : Affaires maritimes (Mme Sophie Panonacle, rapporteure pour avis)  ; Transports terrestres et fluviaux (M. Damien Pichereau, rapporteur pour avis).\n
DTEND:20201104T102000Z
TRANSP:TRANSPARENT
END:VEVENT
BEGIN:VEVENT
UID:OMC_RUANR5L15S2021IDC437726
DTSTART:20201104T083500Z
DTSTAMP:20260422T153029Z
SUMMARY:Réunion de la commission de la défense nationale et des forces armées
LOCATION:visioconférence uniquement
DESCRIPTION:Audition, ouverte à la presse, de M. Francis Lamy, président du Haut comité d&#039;évaluation de la condition militaire (HCECM), sur le 14e rapport du HCECM sur « les pensions militaires de retraite ».
DTEND:20201104T102000Z
TRANSP:TRANSPARENT
END:VEVENT
BEGIN:VEVENT
UID:OMC_RUANR5L15S2021IDC437767
DTSTART:20201104T083500Z
DTSTAMP:20260422T153029Z
SUMMARY:Réunion de la commission des lois
LOCATION:6e Bureau (Lois)
DESCRIPTION:Examen, en nouvelle lecture, du projet de loi relatif à la prorogation des chapitres VI à X du titre II du livre II et de l&#039;article L. 851-3 du code de la sécurité intérieure (n° 3433) (M. Didier Paris, rapporteur) ;\nExamen de la proposition de loi relative à la sécurité globale (n° 3452) (M. Jean-Michel Fauvergue et Mme Alice Thourot, rapporteurs) ;\nNomination d’un rapporteur sur la proposition de loi améliorant l’efficacité de la justice de proximité et de la réponse pénale (n° 3427) ;\nNomination d’un rapporteur sur la proposition de loi visant à promouvoir la France des accents (n° 2473).\n
DTEND:20201104T120000Z
TRANSP:TRANSPARENT
END:VEVENT
BEGIN:VEVENT
UID:OMC_RUANR5L15S2021IDC437972
DTSTART:20201104T091500Z
DTSTAMP:20260422T153029Z
SUMMARY:Réunion de la commission des affaires économiques
LOCATION:salle 6241 (Affaires économiques)
DESCRIPTION:Nouvelle lecture du projet de loi, adopté par le Sénat après engagement de la procédure accélérée, portant diverses dispositions d’adaptation au droit de l’Union européenne en matière économique et financière (n° 3469) Mme Valéria Faure Muntian, rapporteure).
DTEND:20201104T094000Z
TRANSP:TRANSPARENT
END:VEVENT
BEGIN:VEVENT
UID:OMC_RUANR5L15S2021IDC437970
DTSTART:20201104T103000Z
DTSTAMP:20260422T153029Z
SUMMARY:Réunion de la commission des finances
LOCATION:salle de la commission des Finances
DESCRIPTION:Audition de M. Pierre Moscovici, président du Haut Conseil des finances publiques, sur l’avis du Haut Conseil relatif au quatrième projet de loi de finances rectificative pour 2020.
DTEND:20201104T113000Z
TRANSP:TRANSPARENT
END:VEVENT
BEGIN:VEVENT
UID:OMC_RUANR5L15S2021IDF0155378
DTSTART:20201104T103000Z
DTSTAMP:20260422T153029Z
SUMMARY:Réunion - Les Républicains
LOCATION:Salle 6217, Palais Bourbon
DESCRIPTION:
DTEND:20201104T120000Z
TRANSP:TRANSPARENT
END:VEVENT
BEGIN:VEVENT
UID:OMC_RUANR5L15S2021IDC437797
DTSTAMP:20260422T153029Z
DTSTART:20201104T130000Z
SUMMARY:Réunion de la commission d’enquête sur l’évaluation des politiques publiques de santé environnementale
LOCATION:en visioconférence
DESCRIPTION:Audition, ouverte à la presse, de M. Jean-Luc Fugit, président du Conseil national de l’air ; de M. Jacques Patris, président référent santé d’Atmo France et président d’Atmo Hauts-de-France, de Mme Dominique Tilak, directrice référente santé d’Atmo France et directrice d’Atmo Occitanie, et de Mme Marine Tondelier, déléguée générale d’Atmo France.
DTEND:20201104T145500Z
TRANSP:TRANSPARENT
END:VEVENT
BEGIN:VEVENT
UID:OMC_RUANR5L15S2021IDC437967
DTSTAMP:20260422T153029Z
DTSTART:20201104T130000Z
SUMMARY:Réunion 
LOCATION:par visioconférence
DESCRIPTION:Audition de représentants de CITEO.
DTEND:20201104T140000Z
TRANSP:TRANSPARENT
END:VEVENT
BEGIN:VEVENT
UID:OMC_RUANR5L15S2021IDC439041
DTSTAMP:20260422T153029Z
DTSTART:20201104T130000Z
SUMMARY:Réunion 
LOCATION:Par visioconférence
DESCRIPTION:Audition de M. Cyrille MAILLET, préfet, directeur du Conseil national des activités privées de sécurité.
DTEND:20201104T140000Z
TRANSP:TRANSPARENT
END:VEVENT
BEGIN:VEVENT
UID:OMC_RUANR5L15S2021IDF0155068
DTSTAMP:20260422T153029Z
DTSTART:20201104T130000Z
SUMMARY:Réunion - M. André CHASSAIGNE
LOCATION:Salon Gabriel, 101, rue de l&#039;Université
DESCRIPTION:
DTEND:20201104T150000Z
TRANSP:TRANSPARENT
END:VEVENT
BEGIN:VEVENT
UID:OMC_RUANR5L15S2021IDF0155298
DTSTAMP:20260422T153029Z
DTSTART:20201104T130000Z
SUMMARY:Réunion - M. Jean TERLIER
LOCATION:3ème Bureau, Palais Bourbon
DESCRIPTION:
DTEND:20201104T143000Z
TRANSP:TRANSPARENT
END:VEVENT
BEGIN:VEVENT
UID:OMC_RUANR5L15S2021IDC437957
DTSTAMP:20260422T153029Z
DTSTART:20201104T130500Z
SUMMARY:Réunion de la mission d&#039;information sur la concrétisation des lois
LOCATION:visioconférence
DESCRIPTION:Réunion de travail : \nPoint sur l’avancée des travaux en petits groupes ;\nModalités de restitution écrite de ces travaux ;\nPropositions pour la suite des travaux de la mission d’information.\n
DTEND:20201104T135000Z
TRANSP:TRANSPARENT
END:VEVENT
BEGIN:VEVENT
UID:OMC_RUANR5L15S2021IDF0155400
DTSTAMP:20260422T153029Z
DTSTART:20201104T134500Z
SUMMARY:Réunion - Libertés et Territoires
LOCATION:5ème Bureau, Palais Bourbon
DESCRIPTION:
DTEND:20201104T141500Z
TRANSP:TRANSPARENT
END:VEVENT
BEGIN:VEVENT
UID:OMC_RUANR5L15S2021IDS23296
DTSTAMP:20260422T153029Z
DTSTART:20201104T140000Z
SUMMARY:Première séance publique (58e)
LOCATION:Assemblée nationale
DESCRIPTION:Prestation de serment d&#039;un juge suppléant à la Cour de justice de la République\n\nSuite de la nouvelle lecture du projet de loi prorogeant l&#039;état d&#039;urgence sanitaire\n
DTEND:20201104T182500Z
TRANSP:TRANSPARENT
END:VEVENT
BEGIN:VEVENT
UID:OMC_RUANR5L15S2021IDC437825
DTSTAMP:20260422T153029Z
DTSTART:20201104T140000Z
SUMMARY:Réunion de la commission des affaires étrangères
LOCATION:Visioconférence
DESCRIPTION:Présentation, ouverte à la presse, et vote sur le rapport d&#039;information sur l&#039;environnement international des départements et collectivités d&#039;outre-mer (Mmes Annie Chapelier et Bérengère Poletti, co-rapporteures).
DTEND:20201104T154500Z
TRANSP:TRANSPARENT
END:VEVENT
BEGIN:VEVENT
UID:OMC_RUANR5L15S2021IDC437968
DTSTAMP:20260422T153029Z
DTSTART:20201104T140000Z
SUMMARY:Réunion 
LOCATION:par visioconférence
DESCRIPTION:Audition de M. Nicolas Garnier, délégué général d’AMORCE et de M. Olivier Castagno, responsable du pôle déchets.
DTEND:20201104T150000Z
TRANSP:TRANSPARENT
END:VEVENT
BEGIN:VEVENT
UID:OMC_RUANR5L15S2021IDC437984
DTSTAMP:20260422T153029Z
DTSTART:20201104T140000Z
SUMMARY:Réunion de la mission d&#039;information commune sur la réglementation et l&#039;impact des différents usages du cannabis
LOCATION:(en visioconférence)
DESCRIPTION:Audition de la Direction générale de la gendarmerie nationale (DGGN) : colonel Hubert Percie du Sert, commandante Céline Roussel, et commandante Laetitia Martin.
DTEND:20201104T150000Z
TRANSP:TRANSPARENT
END:VEVENT
BEGIN:VEVENT
UID:OMC_RUANR5L15S2021IDC439042
DTSTAMP:20260422T153029Z
DTSTART:20201104T140000Z
SUMMARY:Réunion 
LOCATION:Par visioconférence
DESCRIPTION:Audition de M. Jacques ROUJANSKI, délégué général du comité stratégique de filière « Industries de sécurité ».
DTEND:20201104T150000Z
TRANSP:TRANSPARENT
END:VEVENT
BEGIN:VEVENT
UID:OMC_RUANR5L15S2021IDF0155046
DTSTAMP:20260422T153029Z
DTSTART:20201104T140000Z
SUMMARY:Réunion - La République en Marche
LOCATION:Salle Colbert , Palais Bourbon
DESCRIPTION:
DTEND:20201104T150000Z
TRANSP:TRANSPARENT
END:VEVENT
BEGIN:VEVENT
UID:OMC_RUANR5L15S2021IDC437790
DTSTAMP:20260422T153029Z
DTSTART:20201104T140500Z
SUMMARY:Réunion de la commission du développement durable et de l&#039;aménagement du territoire
LOCATION:salle 6238 (Développement durable)
DESCRIPTION:Proposition de loi européenne sur le climat.
DTEND:20201104T151000Z
TRANSP:TRANSPARENT
END:VEVENT
BEGIN:VEVENT
UID:OMC_RUANR5L15S2021IDC438055
DTSTAMP:20260422T153029Z
DTSTART:20201104T143000Z
SUMMARY:Réunion de la mission d&#039;information commune sur les moyens de juguler les entraves et obstructions opposées à l&#039;exercice de certaines activités légales
LOCATION:visioconférence
DESCRIPTION:Audition de M. Christophe Joubert, responsable de l’animalerie centrale de l’Institut Pasteur.
DTEND:20201104T153000Z
TRANSP:TRANSPARENT
END:VEVENT
BEGIN:VEVENT
UID:OMC_RUANR5L15S2021IDC437630
DTSTAMP:20260422T153029Z
DTSTART:20201104T150000Z
SUMMARY:Réunion de la commission des finances
LOCATION:salle de la commission des Finances
DESCRIPTION:Audition de M. Olivier Dussopt, ministre délégué auprès du ministre de l&#039;économie, des finances et de la relance, chargé des comptes publics sur le quatrième projet de loi de finances rectificative pour 2020 (n° 3522) (M. Laurent Saint-Martin, rapporteur général) ;\nSuite de l’ordre du jour du matin.\n
DTEND:20201104T183000Z
TRANSP:TRANSPARENT
END:VEVENT
BEGIN:VEVENT
UID:OMC_RUANR5L15S2021IDC437969
DTSTAMP:20260422T153029Z
DTSTART:20201104T150000Z
SUMMARY:Réunion 
LOCATION:par visioconférence
DESCRIPTION:Audition de M. Jean-Charles Caudron, directeur de la Supervision des filières REP de l’Agence de la transition écologique (ex-ADEME).
DTEND:20201104T160000Z
TRANSP:TRANSPARENT
END:VEVENT
BEGIN:VEVENT
UID:OMC_RUANR5L15S2021IDC437985
DTSTAMP:20260422T153029Z
DTSTART:20201104T150000Z
SUMMARY:Réunion de la mission d&#039;information commune sur la réglementation et l&#039;impact des différents usages du cannabis
LOCATION:(en visioconférence)
DESCRIPTION:– Audition de Mme Marie Jauffret Roustide, sociologue, chargée de recherche Inserm - Cermes3, coordinatrice pour la France de la Global Drug Survey ;
DTEND:20201104T160000Z
TRANSP:TRANSPARENT
END:VEVENT
BEGIN:VEVENT
UID:OMC_RUANR5L15S2021IDC438062
DTSTAMP:20260422T153029Z
DTSTART:20201104T150000Z
SUMMARY:Réunion de la commission d’enquête sur l’évaluation des politiques publiques de santé environnementale
LOCATION:en visioconférence
DESCRIPTION:Audition, ouverte à la presse, de Mme Annick Bonneville, directrice régionale, et de Mme Koulm Dubus, cheffe du service « risques naturels et technologiques », de la Direction régionale de l’environnement, de l’aménagement et du logement (DREAL) des Pays de la Loire.
DTEND:20201104T160000Z
TRANSP:TRANSPARENT
END:VEVENT
BEGIN:VEVENT
UID:OMC_RUANR5L15S2021IDC437695
DTSTAMP:20260422T153029Z
DTSTART:20201104T150500Z
SUMMARY:Réunion de la commission des affaires européennes
LOCATION:salle 4325 (33 rue Saint-Dominique) et visioconférence
DESCRIPTION:Audition de Mme Laura Codruta Kövesi, procureure générale du Parquet européen, et de M. Frédéric Baab, procureur européen français ;\nQuestions agricoles (propositions de résolution européenne) (rapport) ;\nExamen des textes européens.\n
DTEND:20201104T180500Z
TRANSP:TRANSPARENT
END:VEVENT
BEGIN:VEVENT
UID:OMC_RUANR5L15S2021IDC437833
DTSTAMP:20260422T153029Z
DTSTART:20201104T151000Z
SUMMARY:Réunion de la délégation de l&#039;Assemblée nationale aux droits des femmes et à l&#039;égalité des chances entre les hommes et les femmes
LOCATION:visioconférence
DESCRIPTION:Audition, ouverte à la presse, de Mme Marie-Jo Zimmermann, ancienne Présidente de la Délégation aux droits des femmes, et de Mme Chiara Corazza, directrice générale du Women’s Forum, dans le cadre de la mission d’information sur l’égalité économique et professionnelle (Mmes Marie-Pierre Rixain et Laurence Trastour-Isnart, corapporteures)
DTEND:20201104T174000Z
TRANSP:TRANSPARENT
END:VEVENT
BEGIN:VEVENT
UID:OMC_RUANR5L15S2021IDC437839
DTSTAMP:20260422T153029Z
DTSTART:20201104T153000Z
SUMMARY:Réunion de la mission d’information sur l’impact, la gestion et les conséquences dans toutes ses dimensions de l’épidémie de Coronavirus-Covid 19
LOCATION:salle 6351 (Affaires sociales)
DESCRIPTION:Audition de M. Olivier Véran, ministre des solidarités et de la santé.
DTEND:20201104T181000Z
TRANSP:TRANSPARENT
END:VEVENT
BEGIN:VEVENT
UID:OMC_RUANR5L15S2021IDC438056
DTSTAMP:20260422T153029Z
DTSTART:20201104T153000Z
SUMMARY:Réunion de la mission d&#039;information commune sur les moyens de juguler les entraves et obstructions opposées à l&#039;exercice de certaines activités légales
LOCATION:visioconférence
DESCRIPTION:Audition de M. Nicolas Bureau, responsable des affaires publiques chez Convergence animaux politique (CAP), et de Mme Léa Le Faucheur, porte parole d’Abolissons la vénerie aujourd’hui (AVA).
DTEND:20201104T163000Z
TRANSP:TRANSPARENT
END:VEVENT
BEGIN:VEVENT
UID:OMC_RUANR5L15S2021IDC437986
DTSTAMP:20260422T153029Z
DTSTART:20201104T160000Z
SUMMARY:Réunion de la mission d&#039;information commune sur la réglementation et l&#039;impact des différents usages du cannabis
LOCATION:(en visioconférence)
DESCRIPTION:Table ronde réunissant des élus locaux :\nM. Ludovic Toro, maire de Coubron ;\nM. Éric Piolle, maire de Grenoble ;\nM. Arnaud Robinet, maire de Reims ;\nM. Stéphane Gatignon, ancien maire de Sevran.\n
DTEND:20201104T170000Z
TRANSP:TRANSPARENT
END:VEVENT
BEGIN:VEVENT
UID:OMC_RUANR5L15S2021IDC437631
DTSTAMP:20260422T153029Z
DTSTART:20201104T193000Z
SUMMARY:Réunion de la commission des finances
LOCATION:salle de la commission des Finances
DESCRIPTION:Suite de l’ordre du jour de l&#039;après-midi.
DTEND:20201104T221500Z
TRANSP:TRANSPARENT
END:VEVENT
BEGIN:VEVENT
UID:OMC_RUANR5L15S2021IDS23297
DTSTAMP:20260422T153029Z
DTSTART:20201104T200000Z
SUMMARY:Deuxième séance publique (59e)
LOCATION:Assemblée nationale
DESCRIPTION:\n\nSuite de la discussion du projet de loi de finances pour 2021 (seconde partie)\n
DTEND:20201104T230000Z
TRANSP:TRANSPARENT
END:VEVENT
BEGIN:VEVENT
UID:OMC_RUANR5L15S2021IDC437877
DTSTAMP:20260422T153029Z
DTSTART:20201104T200500Z
SUMMARY:Réunion de la commission des lois
LOCATION:6e Bureau (Lois)
DESCRIPTION:Suite de l&#039;ordre du jour du matin.
DTEND:20201104T231000Z
TRANSP:TRANSPARENT
END:VEVENT
END:VCALENDAR
