BEGIN:VCALENDAR
METHOD:PUBLISH
VERSION:2.0
PRODID:-//Assemblee-Nationale//iCal 3.0//FR
TZ:+00
BEGIN:VEVENT
UID:OMC_RUANR5L16S2023IDS26600
DTSTAMP:20260420T012534Z
DTSTART:20221206T210000Z
SUMMARY:Troisième séance publique (86e)
LOCATION:Assemblée nationale
DESCRIPTION:Suite de la discussion du projet de loi, adopté par le Sénat, après engagement de la procédure accélérée, relatif à l&#039;accélération de la production d&#039;énergies renouvelables
DTEND:20221206T230000Z
TRANSP:TRANSPARENT
END:VEVENT
END:VCALENDAR
