BEGIN:VCALENDAR
METHOD:PUBLISH
VERSION:2.0
PRODID:-//Assemblee-Nationale//iCal 3.0//FR
TZ:+00
BEGIN:VEVENT
UID:OMC_RUANR5L16S2023IDS26610
DTSTAMP:20260420T161938Z
DTSTART:20221206T080000Z
SUMMARY:Première séance publique (84e)
LOCATION:Assemblée nationale
DESCRIPTION:Questions orales sans débat 
DTEND:20221206T111500Z
TRANSP:TRANSPARENT
END:VEVENT
END:VCALENDAR
