BEGIN:VCALENDAR
METHOD:PUBLISH
VERSION:2.0
PRODID:-//Assemblee-Nationale//iCal 3.0//FR
TZ:+00
BEGIN:VEVENT
UID:OMC_RUANR5L16S2023IDC446870
DTSTAMP:20260420T225733Z
DTSTART:20230207T150000Z
SUMMARY:Réunion de la commission d&#039;enquête visant à établir les raisons de la perte de souveraineté et d&#039;indépendance énergétique de la France
LOCATION:Salle 6351 – Palais Bourbon, 1ème étage
DESCRIPTION:Audition, ouverte à la presse, de Mme Ségolène Royal, ancienne ministre de l&#039;écologie, du développement durable et de l&#039;énergie (2014-2017).
DTEND:20230207T173500Z
TRANSP:TRANSPARENT
END:VEVENT
END:VCALENDAR
