BEGIN:VCALENDAR
METHOD:PUBLISH
VERSION:2.0
PRODID:-//Assemblee-Nationale//iCal 3.0//FR
TZ:+00
BEGIN:VEVENT
UID:OMC_RUANR5L16S2023IDC448703
DTSTAMP:20260420T182736Z
DTSTART:20230530T151500Z
SUMMARY:Réunion de la commission des affaires sociales
LOCATION:Salle 6351 – Palais Bourbon, 1ème étage
DESCRIPTION:Désignation d’un rapporteur sur le projet de loi portant transposition de l’accord national interprofessionnel relatif au partage de la valeur au sein de l’entreprise (n° 1272) ; \nAudition de M. Gabriel Attal, ministre de l’action et des comptes publics, sur le projet de loi d’approbation des comptes de la sécurité sociale de l’année 2022 (n° 1268).\n
DTEND:20230530T162000Z
TRANSP:TRANSPARENT
END:VEVENT
END:VCALENDAR
