BEGIN:VCALENDAR
METHOD:PUBLISH
VERSION:2.0
PRODID:-//Assemblee-Nationale//iCal 3.0//FR
TZ:+00
BEGIN:VEVENT
UID:OMC_RUANR5L16S2023IDC449091
DTSTAMP:20260420T205906Z
DTSTART:20230629T063500Z
SUMMARY:Réunion 
LOCATION:Salle 6351 – Palais Bourbon, 1ème étage
DESCRIPTION:à 8 heures 30 : Table ronde d’associations de défense des droits de l’homme :  Amnesty International (Mme Fanny Gallois, responsable de programme) et Ligue des droits de l’homme (Mme Nathalie Tehio, membre du bureau national) ; \nà 10 heures : Audition de M. Christophe Bourseiller, essayiste, auteur de l’ouvrage Nouvelle histoire de l’ultra-gauche (2021) ; \nà 11 heures : Table ronde d’avocats : Me Arié Alimi, Me Claire Dujardin, présidente du Syndicat des avocats de France, Me  Raphaël Kempf.\n
DTEND:20230629T111000Z
TRANSP:TRANSPARENT
END:VEVENT
END:VCALENDAR
