BEGIN:VCALENDAR
METHOD:PUBLISH
VERSION:2.0
PRODID:-//Assemblee-Nationale//iCal 3.0//FR
TZ:+00
BEGIN:VEVENT
UID:OMC_RUANR5L16S2023IDC449352
DTSTAMP:20260421T002453Z
DTSTART:20230712T090000Z
SUMMARY:Réunion de la délégation aux droits des enfants
LOCATION:Salle Lamartine – 101 rue de l&#039;Université, 1er sous-sol
DESCRIPTION:Audition, ouverte à la presse, de Mme Charlotte Caubel, secrétaire d’État auprès de la Première ministre chargée de l’Enfance sur le rapport du Comité des droits de l’enfant de l’ONU relatif à l’application par la France de la Convention internationale des droits de l’enfant.
DTEND:20230712T103000Z
TRANSP:TRANSPARENT
END:VEVENT
END:VCALENDAR
