BEGIN:VCALENDAR
METHOD:PUBLISH
VERSION:2.0
PRODID:-//Assemblee-Nationale//iCal 3.0//FR
TZ:+00
BEGIN:VEVENT
UID:OMC_RUANR5L16S2023IDC449417
DTSTAMP:20260421T160139Z
DTSTART:20230717T134500Z
SUMMARY:Réunion de la commission spéciale chargée d’examiner le projet de loi relatif à l&#039;industrie verte
LOCATION:Salle 6241 – Palais Bourbon, 2ème sous-sol
DESCRIPTION:Examen, en application de l’article 88 du Règlement, des amendements restant en discussion sur le projet de loi, adopté par le Sénat, après engagement de la procédure accélérée, relatif à l’industrie verte (n° 1512.).
DTEND:20230717T135000Z
TRANSP:TRANSPARENT
END:VEVENT
BEGIN:VEVENT
UID:OMC_RUANR5L16S2023IDS27497
DTSTAMP:20260421T160139Z
DTSTART:20230717T140000Z
SUMMARY:Première séance publique (18e)
LOCATION:Assemblée nationale
DESCRIPTION:Discussion du projet de loi, adopté par le Sénat, relatif à l&#039;industrie verte
DTEND:20230717T180000Z
TRANSP:TRANSPARENT
END:VEVENT
BEGIN:VEVENT
UID:OMC_RUANR5L16S2023IDC449446
DTSTAMP:20260421T160139Z
DTSTART:20230717T140000Z
SUMMARY:Réunion 
LOCATION:Visioconférence sans salle
DESCRIPTION:Audition de France victimes : M. Jérôme Bertin, directeur général et Mme Isabelle Sadowski, directrice générale adjointe
DTEND:20230717T150000Z
TRANSP:TRANSPARENT
END:VEVENT
BEGIN:VEVENT
UID:OMC_RUANR5L16S2023IDC449381
DTSTAMP:20260421T160139Z
DTSTART:20230717T160000Z
SUMMARY:Réunion 
LOCATION:Salle 6550 – Palais Bourbon, 2ème étage
DESCRIPTION:– Présentation des conclusions du rapport.
DTEND:20230717T170000Z
TRANSP:TRANSPARENT
END:VEVENT
BEGIN:VEVENT
UID:OMC_RUANR5L16S2023IDS27500
DTSTAMP:20260421T160139Z
DTSTART:20230717T193000Z
SUMMARY:Deuxième séance publique (19e)
LOCATION:Assemblée nationale
DESCRIPTION:Suite de la discussion du projet de loi, adopté par le Sénat, relatif à l&#039;industrie verte
DTEND:20230717T214500Z
TRANSP:TRANSPARENT
END:VEVENT
END:VCALENDAR
