BEGIN:VCALENDAR
METHOD:PUBLISH
VERSION:2.0
PRODID:-//Assemblee-Nationale//iCal 3.0//FR
TZ:+00
BEGIN:VEVENT
UID:OMC_RUANR5L16S2024IDC450102
DTSTAMP:20260420T134115Z
DTSTART:20231019T070500Z
SUMMARY:Réunion 
LOCATION:Salle Lamartine – 101 rue de l&#039;Université, 1er sous-sol
DESCRIPTION:- audition, ouverte à la presse, M. Yves Picquet, président de Phyteis, M. Philippe Michel, directeur des affaires réglementaires et juridiques, et M. Julien Durand-Réville, responsable santé et agronomie digitale.- table ronde, ouverte à la presse, avec les groupes de développement agricole :- Mme Pascale Croc et M. Francis Claudepierre, co-présidents de la TRAME (tête de réseaux associatifs pour le développement agricole et rural);Réseau CIVAM (centres d’initiative pour valoriser l’agriculture et le milieu rural) – à confirmer.- audition, ouverte à la presse, de Mme Laurence Huc, toxicologue directrice de recherche de l’Institut national de recherche pour l’agriculture, l’alimentation et l’environnement (INRAE).
DTEND:20231019T111500Z
TRANSP:TRANSPARENT
END:VEVENT
END:VCALENDAR
