BEGIN:VCALENDAR
METHOD:PUBLISH
VERSION:2.0
PRODID:-//Assemblee-Nationale//iCal 3.0//FR
TZ:+00
BEGIN:VEVENT
UID:OMC_RUANR5L16S2024IDC450539
DTSTART:20231203T230000Z
DTSTAMP:20260421T162142Z
SUMMARY:Réunion de la délégation française à l&#039;Assemblée parlementaire de l&#039;OTAN
LOCATION:Washington
DESCRIPTION:Participation de Mme Caroline Colombier, M. Aurélien Saintoul et Mme Isabelle Santiago au forum parlementaire transatlantique.
DTEND:20231206T225959Z
TRANSP:TRANSPARENT
END:VEVENT
BEGIN:VEVENT
UID:OMC_RUANR5L16S2024IDS27977
DTSTART:20231204T093000Z
DTSTAMP:20260421T162142Z
SUMMARY:Première séance publique (72e)
LOCATION:Assemblée nationale
DESCRIPTION:Discussion et vote sur la motion de censure déposée en application de l&#039;article 49, alinéa 3, de la Constitution (lecture définitive du projet de loi de financement de la sécurité sociale pour 2024)
DTEND:20231204T113500Z
TRANSP:TRANSPARENT
END:VEVENT
BEGIN:VEVENT
UID:OMC_RUANR5L16S2024IDC450629
DTSTAMP:20260421T162142Z
DTSTART:20231204T110000Z
SUMMARY:Réunion de France-République centrafricaine
LOCATION:Hôtel de la Questure de l’Assemblée nationale 
DESCRIPTION:Rencontre avec des membres de la diaspora centrafricaine en France, en présence de M. Christophe Bigot, directeur d’Afrique et de l’Océan indien du ministère de l’Europe et des Affaires étrangères (MEAE)
DTEND:20231204T120000Z
TRANSP:TRANSPARENT
END:VEVENT
BEGIN:VEVENT
UID:OMC_RUANR5L16S2024IDC450432
DTSTAMP:20260421T162142Z
DTSTART:20231204T130000Z
SUMMARY:Réunion de l&#039;Assemblée parlementaire franco-allemande
LOCATION:World Conference Center Bonn - Allemagne
DESCRIPTION:Séance plénière de l&#039;Assemblée parlementaire franco-allemande.
DTEND:20231204T140000Z
TRANSP:TRANSPARENT
END:VEVENT
BEGIN:VEVENT
UID:OMC_RUANR5L16S2024IDC450529
DTSTAMP:20260421T162142Z
DTSTART:20231204T134500Z
SUMMARY:Réunion de la commission des affaires culturelles et de l&#039;éducation
LOCATION:Salle 6242 – Palais Bourbon, 2ème sous-sol
DESCRIPTION:Examen, en application de l’article 88 du Règlement, des nouveaux amendements déposés sur :- la proposition de loi visant à soutenir l’engagement bénévole et simplifier la vie associative (n° 1925) (M. Quentin Bataillon, rapporteur) ;- la proposition de loi, adoptée par le Sénat après engagement de la procédure accélérée, visant à assurer la pérennité des établissements de spectacles cinématographiques et l’accès au cinéma dans les outre-mer (n° 1927) (M. Johnny Hajjar et Mme Maud Petit, rapporteurs).
DTEND:20231204T135000Z
TRANSP:TRANSPARENT
END:VEVENT
BEGIN:VEVENT
UID:OMC_RUANR5L16S2024IDS27897
DTSTAMP:20260421T162142Z
DTSTART:20231204T140000Z
SUMMARY:Deuxième séance publique (73e)
LOCATION:Assemblée nationale
DESCRIPTION:Discussion de la proposition de résolution (déposée en application de l&#039;art. 34-1 de la Constitution) visant à la défense des démocraties face aux multiples menaces et tentatives de déstabilisation\nDiscussion de la proposition de loi visant à adapter le droit de la responsabilité civile aux enjeux actuels\nDiscussion de la proposition de loi relative au contentieux du stationnement payant\n\n\n\n
DTEND:20231204T190000Z
TRANSP:TRANSPARENT
END:VEVENT
BEGIN:VEVENT
UID:OMC_RUANR5L16S2024IDC450630
DTSTAMP:20260421T162142Z
DTSTART:20231204T144500Z
SUMMARY:Réunion de la commission des lois
LOCATION:6ème Bureau – Palais Bourbon, 1er étage
DESCRIPTION:Examen, en application de l’article 88 du Règlement, des amendements :\n- à la proposition de loi visant à lutter contre les discriminations par la pratique de tests individuels et statistiques (n° 1903) (M. Marc Ferracci, rapporteur) ;\n- à la proposition de loi relative au contentieux du stationnement payant (n° 1874) (M. Daniel Labaronne, rapporteur) ; \n- à la proposition de loi visant à adapter le droit de la responsabilité civile aux enjeux actuels (n° 1912) (Mme Nicole Le Peih, rapporteure) ;\n- à la proposition de loi améliorant l’efficacité des dispositifs de saisie et de confiscation des avoirs criminels (n° 1911) (M. Jean-Luc Warsmann, rapporteur) ;\n- à la proposition de loi, adoptée par le Sénat, visant à réduire les inégalités territoriales pour les ouvertures de casinos (n° 1873) (Mmes Laetitia Saint-Paul et Frédérique Meunier, rapporteures).\n
DTEND:20231204T145000Z
TRANSP:TRANSPARENT
END:VEVENT
BEGIN:VEVENT
UID:OMC_RUANR5L16S2024IDC451723
DTSTAMP:20260421T162142Z
DTSTART:20231204T150000Z
SUMMARY:Réunion 
LOCATION:Visioconférence sans salle
DESCRIPTION:- Audition, non ouverte à la presse, de la Mission d&#039;information « femmes et sport » : M. François Beck, directeur de la prévention et de la promotion de la santé et Mme Anne-Juliette Serry, responsable de l’unité nutrition et activité physique, Santé publique France.
DTEND:20231204T160000Z
TRANSP:TRANSPARENT
END:VEVENT
BEGIN:VEVENT
UID:OMC_RUANR5L16S2024IDC451724
DTSTAMP:20260421T162142Z
DTSTART:20231204T155000Z
SUMMARY:Réunion 
LOCATION:Visioconférence sans salle
DESCRIPTION:- Audition, non ouverte à la presse, de la Mission d&#039;information « femmes et sport » : M. Olivier Girault, directeur national de l’UNSS.
DTEND:20231204T165000Z
TRANSP:TRANSPARENT
END:VEVENT
BEGIN:VEVENT
UID:OMC_RUANR5L16S2024IDC451725
DTSTAMP:20260421T162142Z
DTSTART:20231204T164000Z
SUMMARY:Réunion 
LOCATION:Visioconférence sans salle
DESCRIPTION:- Audition, non ouverte à la presse, de la Mission d&#039;information « femmes et sport » : Mme Marie-Pierre Badré, présidente du centre Hubertine Auclert.
DTEND:20231204T174000Z
TRANSP:TRANSPARENT
END:VEVENT
BEGIN:VEVENT
UID:OMC_RUANR5L16S2024IDS27898
DTSTAMP:20260421T162142Z
DTSTART:20231204T203000Z
SUMMARY:Troisième séance publique (74e)
LOCATION:Assemblée nationale
DESCRIPTION:\nDiscussion de la proposition de loi visant à interdire les dispositifs électroniques de vapotage à usage unique\n\nDiscussion de la proposition de loi améliorant l&#039;efficacité des dispositifs de saisie et de confiscation des avoirs criminels\n\n\n\n\n\n\n\n\n
DTEND:20231204T230500Z
TRANSP:TRANSPARENT
END:VEVENT
END:VCALENDAR
