BEGIN:VCALENDAR
METHOD:PUBLISH
VERSION:2.0
PRODID:-//Assemblee-Nationale//iCal 3.0//FR
TZ:+00
BEGIN:VEVENT
UID:OMC_RUANR5L16S2024IDC450532
DTSTAMP:20260420T224015Z
DTSTART:20231214T090500Z
SUMMARY:Réunion 
LOCATION:Salle 6549 – Palais Bourbon, 2ème étage
DESCRIPTION:Examen du rapport, à huis clos.
DTEND:20231214T113000Z
TRANSP:TRANSPARENT
END:VEVENT
END:VCALENDAR
