BEGIN:VCALENDAR
METHOD:PUBLISH
VERSION:2.0
PRODID:-//Assemblee-Nationale//iCal 3.0//FR
TZ:+00
BEGIN:VEVENT
UID:OMC_RUANR5L16S2024IDC452197
DTSTAMP:20260420T132132Z
DTSTART:20240402T143000Z
SUMMARY:Réunion de la délégation de l&#039;Assemblée nationale aux droits des femmes et à l&#039;égalité des chances entre les hommes et les femmes
LOCATION:Salle 6351 – Palais Bourbon, 1ème étage
DESCRIPTION:Audition, ouverte la presse, de Mmes Sylvie Pierre-Brossolette, Présidente, et Mme Julia Méry, Déléguée à la formation Égalité professionnelle du Haut Conseil à l’égalité entre les femmes et les hommes, sur leur rapport « Salaires : 5 ans après l’Index, toujours pas d’égalité ».
DTEND:20240402T153500Z
TRANSP:TRANSPARENT
END:VEVENT
END:VCALENDAR
