BEGIN:VCALENDAR
METHOD:PUBLISH
VERSION:2.0
PRODID:-//Assemblee-Nationale//iCal 3.0//FR
TZ:+00
BEGIN:VEVENT
UID:OMC_RUANR5L16S2024IDC452187
DTSTAMP:20260420T014827Z
DTSTART:20240403T073500Z
SUMMARY:Réunion de la commission des affaires culturelles et de l&#039;éducation
LOCATION:Salle 6242 – Palais Bourbon, 2ème sous-sol
DESCRIPTION:Examen de la proposition de loi, adoptée par le Sénat, visant la prise en charge par l’État de l’accompagnement humain des élèves en situation de handicap sur le temps méridien (n° 2106) (Mme Virginie Lanlo, rapporteure) ;\nPrésentation des conclusions de la mission flash sur le sport au travail (M. Karl Olive et Mme Claudia Rouaux, rapporteurs).\n
DTEND:20240403T100000Z
TRANSP:TRANSPARENT
END:VEVENT
END:VCALENDAR
