BEGIN:VCALENDAR
METHOD:PUBLISH
VERSION:2.0
PRODID:-//Assemblee-Nationale//iCal 3.0//FR
TZ:+00
BEGIN:VEVENT
UID:OMC_RUANR5L16S2024IDC452384
DTSTAMP:20260420T203827Z
DTSTART:20240403T130000Z
SUMMARY:Réunion de la commission d’enquête visant à établir les raisons de la perte de souveraineté alimentaire de la France
LOCATION:Salle 6350 – Palais Bourbon, 1er étage
DESCRIPTION:Audition, ouverte à la presse, de M. Pierre Pagès, président de l’Interprofession des semences et plants (SEMAE), et Mme Marie Bigot, responsable des affaires publiques;\nAudition, ouverte à la presse, de Mme Delphine Guey, présidente de l’Union des industries de la fertilisation (UNIFA), et de Mme Florence Nys, déléguée générale.\n
DTEND:20240403T165000Z
TRANSP:TRANSPARENT
END:VEVENT
END:VCALENDAR
