BEGIN:VCALENDAR
METHOD:PUBLISH
VERSION:2.0
PRODID:-//Assemblee-Nationale//iCal 3.0//FR
TZ:+00
BEGIN:VEVENT
UID:OMC_RUANR5L16S2024IDC452170
DTSTAMP:20260419T165235Z
DTSTART:20240404T130000Z
SUMMARY:Réunion de la commission d’enquête sur la gestion des risques naturels majeurs dans les territoires d’outre-mer
LOCATION:Salle 6350 – Palais Bourbon, 1er étage
DESCRIPTION:à 15 heures– Conseil régional de la Guadeloupe : Mmes Sylvie Gustave Dit Duflo, vice présidente (présentiel), Monique Apat, directrice générale adjointe des infrastructures et du cadre de vie, Francine Arbau Garnier, directrice de l&#039;environnement, Maeva Govindin, cheffe du service biodiversité et risques majeursà 16 heures– Secrétariat général à la planification écologique (SGPE) : M. Joseph Hajjar, directeur de programme climat (présentiel)à 17 heures– M. Christophe Béchu, ministre de la transition écologique et de la cohésion des territoires, Mmes Lucile Hervé, conseillère parlementaire, Charlotte Logeais, conseillère planification, climat, air et transports et M. Samuel Just, conseiller économie circulaire et prévention des risques (présentiel)
DTEND:20240404T164500Z
TRANSP:TRANSPARENT
END:VEVENT
END:VCALENDAR
