BEGIN:VCALENDAR
METHOD:PUBLISH
VERSION:2.0
PRODID:-//Assemblee-Nationale//iCal 3.0//FR
TZ:+00
BEGIN:VEVENT
UID:OMC_RUANR5L16S2024IDC452796
DTSTAMP:20260420T134124Z
DTSTART:20240514T164500Z
SUMMARY:Réunion de la commission d’enquête sur les manquements des politiques de protection de l’enfance
LOCATION:Salle 6241 – Palais Bourbon, 2ème sous-sol
DESCRIPTION:Audition commune réunissant :\nM. Jean-Benoît Dujol, directeur général de la cohésion sociale, et Mme Anne Morvan-Paris, sous-directrice de l’enfance et de la famille ;\nM. Fabrice Lenglart, directeur de la recherche, des études, de l’évaluation et des statistiques, et Mme Julie Labarthe, sous directrice de l’observation de la solidarité.\n
DTEND:20240514T195000Z
TRANSP:TRANSPARENT
END:VEVENT
END:VCALENDAR
