BEGIN:VCALENDAR
METHOD:PUBLISH
VERSION:2.0
PRODID:-//Assemblee-Nationale//iCal 3.0//FR
TZ:+00
BEGIN:VEVENT
UID:OMC_RUSNR5L17S2025IDS28997
DTSTART:20250114T080000Z
DTSTAMP:20260421T160140Z
SUMMARY:Séance publique (1e)
LOCATION:Sénat
DESCRIPTION:Discussion
DTEND:20250114T090000Z
TRANSP:TRANSPARENT
END:VEVENT
BEGIN:VEVENT
UID:OMC_RUANR5L17S2025IDC454373
DTSTAMP:20260421T160140Z
DTSTART:20250114T110000Z
SUMMARY:Réunion de la commission des lois
LOCATION:6ème Bureau – Palais Bourbon, 1er étage
DESCRIPTION:Nomination de rapporteurs :- sur la proposition de loi, adoptée par le Sénat, visant à proroger la loi n° 2017-285 du 6 mars 2017 relative à l’assainissement cadastral et à la résorption du désordre de la propriété (n° 141), en remplacement de M. Laurent Marcangeli ;- sur la proposition de loi de Mme Aurore Bergé visant à renforcer la lutte contre les violences faites aux femmes et aux enfants (n° 669), en remplacement de Mme Aurore Bergé.
DTEND:20250114T110500Z
TRANSP:TRANSPARENT
END:VEVENT
BEGIN:VEVENT
UID:OMC_RUANR5L17S2025IDC454251
DTSTAMP:20260421T160140Z
DTSTART:20250114T130000Z
SUMMARY:Réunion de la mission d&#039;information flash sur la conciliation des usages de la nature et la protection de la biodiversité
LOCATION:salle 1, 95 rue de l&#039;Université
DESCRIPTION:Table rondeCentre national de la propriété forestière (CNPF)M. Roland de Lary, directeur général 19.03.1965 à PérigueuxM. Sylvain Pillon, chef de projet « Environnement, équilibre sylvo-cynégétique »Fédération des syndicats forestiers privés de France (Fransylva) :M. Antoine de Ponton d’Amécourt, présidentM. Laurent de Bertier directeur GénéralExperts forestiers de FranceM. Sébastien Chaton, président
DTEND:20250114T140000Z
TRANSP:TRANSPARENT
END:VEVENT
BEGIN:VEVENT
UID:OMC_RUANR5L17S2025IDC454330
DTSTAMP:20260421T160140Z
DTSTART:20250114T131000Z
SUMMARY:Réunion de la commission d’enquête relative à la politique française d’expérimentation nucléaire, à l’ensemble des conséquences de l’installation et des opérations du Centre d’expérimentation du Pacifique en Polynésie française, à la reconnaissance, à la prise en charge et à l’indemnisation des victimes des essais nucléaires français, ainsi qu’à la reconnaissance des dommages environnementaux et à leur réparation
LOCATION:Salle 4325 – Commission des affaires européennes, 9 rue de Bourgogne, 3ème étage
DESCRIPTION:Nomination du Bureau ;\nDésignation du rapporteur ;\néchange de vues sur l’organisation des travaux de la commission d’enquête.\n
DTEND:20250114T140000Z
TRANSP:TRANSPARENT
END:VEVENT
BEGIN:VEVENT
UID:OMC_RUANR5L17S2025IDC454390
DTSTAMP:20260421T160140Z
DTSTART:20250114T134500Z
SUMMARY:Réunion de la commission des affaires sociales
LOCATION:Salle 6351 – Palais Bourbon, 1ème étage
DESCRIPTION:Désignation d’un rapporteur sur la proposition de loi, modifiée par le Sénat, visant à améliorer la prise en charge des soins et dispositifs spécifiques au traitement du cancer du sein par l’assurance maladie (n° 528) ;\nDésignation d’un rapporteur sur la proposition de loi visant à restreindre la vente de protoxyde d’azote aux seuls professionnels et à renforcer les actions de prévention sur les consommations détournées (n° 580) ;\nDésignation, en application de l’article L. 4642 2 du code du travail, d’un membre du conseil d’administration de l’Agence nationale pour l’amélioration des conditions de travail ;\nDésignation, en application de l’article L. 6121 8 du code de la santé publique, d’un membre du Comité national de l’organisation sanitaire et sociale.\n
DTEND:20250114T135500Z
TRANSP:TRANSPARENT
END:VEVENT
BEGIN:VEVENT
UID:OMC_RUANR5L17S2025IDS28907
DTSTAMP:20260421T160140Z
DTSTART:20250114T140000Z
SUMMARY:Première séance publique (66e)
LOCATION:Assemblée nationale
DESCRIPTION:\nDéclaration du Gouvernement, suivie d&#039;un débat (art. 50-1 de la Constitution)\n
DTEND:20250114T190500Z
TRANSP:TRANSPARENT
END:VEVENT
BEGIN:VEVENT
UID:OMC_RUANR5L17S2025IDC454255
DTSTAMP:20260421T160140Z
DTSTART:20250114T153500Z
SUMMARY:Réunion de la commission des affaires économiques
LOCATION:Salle Lamartine – 101 rue de l&#039;Université, 1er sous-sol
DESCRIPTION:Audition conjointe d’organisations syndicales sur l’activité économique, la production et l’emploi en France, réunissant des représentants de  :\nLa Confédération française de l’encadrement – Confédération générale des cadres (CFE CGC) ;\nLa Confédération française démocratique du travail (CFDT) ;\nLa Confédération française des travailleurs chrétiens (CFTC) ;\nLa Confédération générale du travail (CGT) ;\nForce ouvrière (FO).\n
DTEND:20250114T174500Z
TRANSP:TRANSPARENT
END:VEVENT
BEGIN:VEVENT
UID:OMC_RUANR5L17S2025IDC454252
DTSTAMP:20260421T160140Z
DTSTART:20250114T163000Z
SUMMARY:Réunion de la mission d&#039;information flash sur la conciliation des usages de la nature et la protection de la biodiversité
LOCATION:Salle 7044 – 103 rue de l&#039;Université, 2ème sous-sol
DESCRIPTION:Table ronde « Fédérations départementales de chasse »Fédération départementale de chasse des Alpes-Maritimes M. Jean-Pierre Caujolle, président  Mme Isabelle Bernigaud, vice-présidente M. Serge Berenger, directeur Fédération départemental de chasse de Charente M. Bruno Meunier, président M. Cyril Moreau, directeur Fédération départementale de chasse de l’Indre-et-Loire  M. Alain Belloy, président M. Quentin Guenault, directeur 
DTEND:20250114T173000Z
TRANSP:TRANSPARENT
END:VEVENT
BEGIN:VEVENT
UID:OMC_RUANR5L17S2025IDC454406
DTSTAMP:20260421T160140Z
DTSTART:20250114T200000Z
SUMMARY:Réunion de la commission des affaires économiques
LOCATION:Salle 6241 – Palais Bourbon, 2ème sous-sol
DESCRIPTION:Suite de l’examen des articles du projet de loi d’urgence pour Mayotte
DTEND:20250114T234500Z
TRANSP:TRANSPARENT
END:VEVENT
BEGIN:VEVENT
UID:OMC_RUANR5L17S2025IDS28908
DTSTAMP:20260421T160140Z
DTSTART:20250114T203000Z
SUMMARY:Deuxième séance publique (67e)
LOCATION:Assemblée nationale
DESCRIPTION:Débat sur le thème : &quot;Palestine / Liban : le rôle de la France dans l&#039;effondrement du droit international&quot;
DTEND:20250114T223000Z
TRANSP:TRANSPARENT
END:VEVENT
END:VCALENDAR
