BEGIN:VCALENDAR
METHOD:PUBLISH
VERSION:2.0
PRODID:-//Assemblee-Nationale//iCal 3.0//FR
TZ:+00
BEGIN:VEVENT
UID:OMC_RUANR5L17S2025IDC454584
DTSTAMP:20260421T072649Z
DTSTART:20250203T144500Z
SUMMARY:Réunion de la commission des affaires sociales
LOCATION:Salle 6351 – Palais Bourbon, 1ème étage
DESCRIPTION:Désignation de rapporteurs d’information ;\nExamen, au titre de l’article 88 du Règlement, des amendements aux première et deuxième parties du projet de loi de financement de la sécurité sociale pour 2025, en nouvelle lecture (n° 622) (M. Thibault Bazin, rapporteur général).\n
DTEND:20250203T145000Z
TRANSP:TRANSPARENT
END:VEVENT
BEGIN:VEVENT
UID:OMC_RUANR5L17S2025IDS28967
DTSTAMP:20260421T072649Z
DTSTART:20250203T150000Z
SUMMARY:Séance publique (89e)
LOCATION:Assemblée nationale
DESCRIPTION:Discussion, sur le rapport de la commission mixte paritaire, du projet de loi de finances pour 2025\nDiscussion, en nouvelle lecture, du projet de loi de financement de la sécurité sociale pour 2025\n
DTEND:20250203T161000Z
TRANSP:TRANSPARENT
END:VEVENT
BEGIN:VEVENT
UID:OMC_RUANR5L17S2025IDC454713
DTSTAMP:20260421T072649Z
DTSTART:20250203T163000Z
SUMMARY:Réunion Mission d&#039;information sur la santé mentale des mineurs
LOCATION:6634
DESCRIPTION:Audition, non ouverte à la presse, de Mme Angèle Consoli, de la Commission nationale de psychiatrie, Docteure pédopsychiatre à l&#039;hôpital de la Pitié-Salpêtrière 
DTEND:20250203T173000Z
TRANSP:TRANSPARENT
END:VEVENT
END:VCALENDAR
