BEGIN:VCALENDAR
METHOD:PUBLISH
VERSION:2.0
PRODID:-//Assemblee-Nationale//iCal 3.0//FR
TZ:+00
BEGIN:VEVENT
UID:OMC_RUANR5L17S2025IDC455106
DTSTAMP:20260420T182800Z
DTSTART:20250218T163000Z
SUMMARY:Réunion de France-Lettonie
LOCATION:Assemblée nationale
DESCRIPTION:Réunion constitutive du groupe d&#039;amitié
DTEND:20250218T173000Z
TRANSP:TRANSPARENT
END:VEVENT
END:VCALENDAR
