BEGIN:VCALENDAR
METHOD:PUBLISH
VERSION:2.0
PRODID:-//Assemblee-Nationale//iCal 3.0//FR
TZ:+00
BEGIN:VEVENT
UID:OMC_RUANR5L17S2025IDC454875
DTSTAMP:20260421T190622Z
DTSTART:20250220T130000Z
SUMMARY:Réunion de France-Congo
LOCATION:Assemblée nationale
DESCRIPTION:Constitution du bureau du groupe d&#039;amitié\nÉchanges concernant les activités du groupe d&#039;amitié\n
DTEND:20250220T140000Z
TRANSP:TRANSPARENT
END:VEVENT
END:VCALENDAR
