BEGIN:VCALENDAR
METHOD:PUBLISH
VERSION:2.0
PRODID:-//Assemblee-Nationale//iCal 3.0//FR
TZ:+00
BEGIN:VEVENT
UID:OMC_RUANR5L17S2025IDC455474
DTSTAMP:20260420T225733Z
DTSTART:20250402T080000Z
SUMMARY:Réunion de la commission des affaires culturelles et de l&#039;éducation
LOCATION:Salle 6242 – Palais Bourbon, 2ème sous-sol
DESCRIPTION:Dans le cadre de l’enquête sur les modalités du contrôle par l’État et de la prévention des violences dans les établissements scolaires (article 5 ter de l’ordonnance n° 58 1100 du 17 novembre 1958), audition conjointe de MM. Philippe Delorme, secrétaire général de l’enseignement catholique (Sgec), Sylvain Cariou-Charton, président de l’Union des réseaux congréganistes de l’enseignement catholique (Urcec) et Christophe Schietse, secrétaire général ;\nDésignation de rapporteurs sur la proposition de loi visant à renforcer le parcours inclusif des élèves en situation de handicap (n° 439) et sur la proposition de loi, adoptée par le Sénat, relative à la lutte contre l’antisémitisme dans l’enseignement supérieur (n° 1009).\n
DTEND:20250402T100000Z
TRANSP:TRANSPARENT
END:VEVENT
END:VCALENDAR
